Workbook
Name AÑOS: #REF!
Name AÑOS: #REF!
Name AÑOS: #REF!
Name AÑOS: #REF!
Name AÑOS: #REF!
Name Beg_Bal: [1]TABLA!$D$33:$D$392
Name concepto108.casillero: #REF!
Name concepto108.casillero: #REF!
Name concepto108.casillero: #REF!
Name concepto108.casillero: #REF!
Name concepto108.casillero: #REF!
Name concepto109.casillero: #REF!
Name concepto109.casillero: #REF!
Name concepto109.casillero: #REF!
Name concepto109.casillero: #REF!
Name concepto110.casillero: #REF!
Name concepto110.casillero: #REF!
Name concepto110.casillero: #REF!
Name concepto110.casillero: #REF!
Name concepto111.casillero: #REF!
Name concepto111.casillero: #REF!
Name concepto111.casillero: #REF!
Name concepto111.casillero: #REF!
Name concepto116.casillero: #REF!
Name concepto116.casillero: #REF!
Name concepto116.casillero: #REF!
Name concepto116.casillero: #REF!
Name DATOS: #REF!
Name DATOS: #REF!
Name DATOS: #REF!
Name DATOS: #REF!
Name End_Bal: [1]TABLA!$J$33:$J$392
Name ENTRADA: #REF!
Name ENTRADA: #REF!
Name ENTRADA: #REF!
Name ENTRADA: #REF!
Name ENTRADA: #REF!
Name Extra_Pay: [1]TABLA!$F$33:$F$392
Name fgsfgdssgfdg: #REF!
Name fgsfgdssgfdg: #REF!
Name fgsfgdssgfdg: #REF!
Name fgsfgdssgfdg: #REF!
Name fgsfgdssgfdg: #REF!
Name Full_Print: [1]TABLA!$B$17:$J$392
Name gestión: #REF!
Name gestión: #REF!
Name gestión: #REF!
Name gestión: #REF!
Name gestión: #REF!
Name GESTIONN: #REF!
Name GESTIONN: #REF!
Name GESTIONN: #REF!
Name GESTIONN: #REF!
Name Header_Row: ROW([1]TABLA!$32:$32)
Name INDIRECTOS: #REF!
Name INDIRECTOS: #REF!
Name INDIRECTOS: #REF!
Name INDIRECTOS: #REF!
Name INDIRECTOS: #REF!
Name Int: [1]TABLA!$I$33:$I$392

Sheet CARATULA
C11: DEPARTAMENTO DE CIENCIAS ECONÓMICAS, ADMINISTRATIVAS Y DEL COMERCIO
B13: LICENCIATURA EN CONTABILIDAD Y AUDITORÍA
Q14: #d6ce8b | R14: #8fd053 | S14: #02907d | T14: #03453d | U14: #2c1001
B15: PROPUESTA DE TESIS
B17: MODELO DE ANÁLISIS Y EVALUACIÓN DE LA GESTIÓN DE RIESGO Y SU INCIDENCIA EN LA SOSTENIBILIDAD FINANCIERA DEL SECTOR DE SERVICIO DE TRANSPORTE Y ALMACENAMIENTO DE LA PROVINCIA DE COTOPAXI, MEDIANTE EL CÁLCULO DE INDICADORES FINANCIERO.
B19: ELABORADO POR:
B20: RIVAS CRUZ KARINA ELIZABETH
B21: TACO MOROCHO CARLOS EFRAIN
B22: TUTORA: ING. URBINA POVEDA, MYRIAM ALEXANDRA, MSc.

Sheet CONTENIDO
C9: INSTRUCCIONES | J9: SOSTENIBILIDAD FINANCIERA
C12: MARCO METODOLÓGICO | J12: CUESTIONARIO DE CONTROL INTERNO
C15: ESTADOS FINANCIEROS | J15: EVALUACIÓN DE RIESGO
C18: COMPOSICIÓN FINANCIERA | J18: NIVEL DEL RIESGO
C21: INDICADORES DE VALOR | J21: MAPA DE CALOR
C24: INDICADORES DE CONTINUIDAD | J24: RIESGO INHERENTE
B28: NOTA: Al dar clic en el círculo negro y la figura ploma se abrirá la pestaña que desee visualizar.

Sheet INSTRUCCIONES
C9: El presente modelo tiene por objeto analizar y diagnosticar la gestión financiera por su incidencia en la sostenibilidad financiera. El modelo considera dos análisis: 1.- Evaluación y diagnostico de la sostenibilidad financiera a través de indicadores. 2.- Análisis y evaluación del riesgo inherente a través de cuestionario y matriz de riesgo. A continuación se presenta un detalle de las indicaciones por hoja de calculo.
C13: - Las pestañas 3-4-5 y 6 contienen herramientas para poder calcular los indicadores financieros, esto se realizara de forma automática en el momento que usted llene su estado financiero, esto le llevara a la ultima pestaña que seria el resumen de como se encuentra su empresa en el tema de sostenibilidad financiera.
C16: - Las pestañas 7-8-9-10 y 11 contienen matrices de riegos que de igual manera será calculado automáticamente en consideración a las respuestas del cuestionario, cabe indicar que en la pestaña 11 obtendrá el resumen de los riegos y su nivel y usted podrá observar si estos son: bajo, medio o alto considerando una escala de semáforo.
C19: La pestaña 3 comprende un estado financiero donde usted debe ingresar en las celdas correspondientes la información financiera de la empresa a ser analizada al final de un periodo fiscal, se utiliza para el efecto el formulario 101 definido por el SRI. Seguidamente en la pestaña 4 obtendrá un análisis automático de sus activos, pasivos y patrimonio.
C40: En las pestañas 5 y 6 obtendrá información de cada indicador calculado y este resultado será comparado con los niveles referenciales definidos en el marco teórico. Finalmente se obtendrá un diagnostico de la sostenibilidad evaluado a través de pruebas dicotómicas con escalas de color donde el color rojo significa sostenibilidad baja, el amarillo media y el verde alta.
C50: La pestaña 7 contiene un cuestionario, el cual esta conformado por un conjunto de preguntas relacionadas al riesgo inherente. En este apartado usted debe analizar y responder el cuestionario detallando una x en la respuesta que considere oportuna.
C53: La pestaña 8 le dará el resultado de la evaluación de riesgo, considerando la siguiente escala, siendo el rojo riesgo alto, el amarillo moderado y el verde bajo.
C56: De la misma forma en la pestaña 9 podrá observar el nivel de riesgo inherente de forma global con su respectivo color.
C70: En la pestaña 10 se indica un mapa de calor con el detalle de los eventos del riesgo, la probabilidad y el impacto, en este apartado usted deberá seleccionar el impacto en función de las características de la entidad.
C87: Finalmente en la pestaña 11 se evidencia el resumen general de los riesgos, donde se puede observar el tipo de riesgo, a fin de que la entidad pueda analizar causas y efectos y definir una respuesta al riesgo.
C91: La pestaña marco metodológico contiene un detalle de la terminología financiera utilizada en el modelo.

Sheet MARCO METODOLOGICO
D12: INDICADOR DE CONTINUIDAD | E12: DESCRIPCIÓN | F12: FÓRMULA
D13: Liquidez Corriente | E13: Este índice relaciona los activos corrientes frente a los pasivos de la misma naturaleza. Cuanto más alto sea el coeficiente, la empresa tendrá mayores posibilidades de efectuar sus pagos de corto plazo.
D14: Endeudamiento | E14: Permite conocer el grado de endeudamiento al corto plazo
D15: INDICADOR DE VALOR | E15: DESCRIPCIÓN | F15: FÓRMULA
D16: Rentabilidad operacional del patrimonio (ROE) | E16: Permite identificar la rentabilidad que le ofrece a los socios o accionistas el capital que han invertido en la empresa, sin tomar en cuenta los gastos financieros ni de impuestos y participación de trabajadores.
D17: Eficiencia | E17: Permiten medir el nivel de ejecución del proceso, se concentran en el Cómo se hicieron las cosas y miden el rendimiento de los recursos utilizados por un proceso. Tienen que ver con la productividad.
D18: Rentabilidad neta del activo (ROA) | E18: Muestra la capacidad del activo para producir utilidades, independientemente de la forma como haya sido financiado, ya sea con deuda o patrimonio.
D19: Rotación de activos | E19: Permite apreciar el grado de liquidez (en veces) de las cuentas y documentos por cobrar, lo cual se refleja en la gestión y buena marcha de la empresa.

Sheet 3
E3: FORMULARIO 101 | K3: DECLARACIÓN DEL IMPUESTO A LA RENTA Y PRESENTACIÓN DE BALANCES FORMULARIO ÚNICO SOCIEDADES Y ESTABLECIMIENTOS PERMANENTES | AD3: SUPERINTENDENCIA DE COMPAÑÍAS, VALORES Y SEGUROS
C4: RESOLUCIÓN N° NAC-DGERCGC15-00000143
B5: 0
B6: CON PARTES RELACIONADAS LOCALES | C6: OPERACIONES DE ACTIVO | H6: 003 | I6: + | M6: CON PARTES RELACIONADAS EN PARAÍSOS FISCALES Y REGÍMENES FISCALES PREFERENTES | O6: OPERACIONES DE ACTIVO | S6: 007 | T6: + | X6: CON PARTES RELACIONADAS EN OTROS REGÍMENES DEL EXTERIOR | Z6: OPERACIONES DE ACTIVO | AD6: 011 | AE6: +
C7: OPERACIONES DE PASIVO | H7: 004 | I7: + | O7: OPERACIONES DE PASIVO | S7: 008 | T7: + | Z7: OPERACIONES DE PASIVO | AD7: 012 | AE7: +
C8: OPERACIONES DE INGRESO | H8: 005 | I8: + | O8: OPERACIONES DE INGRESO | S8: 009 | T8: + | Z8: OPERACIONES DE INGRESO | AD8: 013 | AE8: +
C9: OPERACIONES DE EGRESO | H9: 006 | I9: + | O9: OPERACIONES DE EGRESO | S9: 010 | T9: + | Z9: OPERACIONES DE EGRESO | AD9: 014 | AE9: +
B10: TOTAL OPERACIONES CON PARTES RELACIONADAS | AD10: 015 | AE10: =
B11: ¿SUJETO PASIVO EXENTO DE APLICACIÓN DEL RÉGIMEN DE PRECIOS DE TRANSFERENCIA? | AD11: 017 | AE11: =
B13: ESTADO DE SITUACIÓN FINANCIERA | R13: ESTADO DE RESULTADOS
B14: ACTIVO | R14: INGRESOS
B15: ACTIVOS CORRIENTES | AD15: TOTAL INGRESOS | AG15: VALOR EXENTO (A efectos de la Conciliación Tributaria)
B16: EFECTIVO Y EQUIVALENTES AL EFECTIVO | O16: 311 | P16: + | Q16: 48942.22 | R16: VENTAS NETAS LOCALES GRAVADAS CON TARIFA 12% DE IVA | AD16: 6011 | AE16: + | AG16: 6012
B17: INVERSIONES CORRIENTES | O17: 312 | P17: + | R17: VENTAS NETAS LOCALES GRAVADAS CON TARIFA 0% DE IVA O EXENTAS DE IVA | AD17: 6021 | AE17: + | AF17: 2472205.3 | AG17: 6022
B18: (-) PROVISIÓN POR DETERIORO DE INVERSIONES CORRIENTES | O18: 313 | P18: (-) | R18: EXPORTACIONES NETAS | AD18: 6031 | AE18: + | AG18: 6032
B19: CUENTAS Y DOCUMENTOS POR COBRAR CLIENTES CORRIENTES | D19: RELACIONADOS | G19: LOCALES | O19: 314 | P19: + | R19: INGRESOS OBTENIDOS BAJO LA MODALIDAD DE COMISIONES O SIMILARES | AD19: 6041 | AE19: + | AG19: 6042
G20: DEL EXTERIOR | O20: 315 | P20: + | R20: INGRESOS POR AGROFORESTERÍA Y SILVICULTURA DE ESPECIES FORESTALES | AD20: 6051 | AE20: + | AG20: 6052
D21: NO RELACIONADOS | G21: LOCALES | O21: 316 | P21: + | Q21: 26076.63 | R21: RENDIMIENTOS FINANCIEROS | AD21: 6061 | AE21: + | AG21: 6062
G22: DEL EXTERIOR | O22: 317 | P22: + | R22: UTILIDAD EN VENTA DE PROPIEDADES, PLANTA Y EQUIPO | AD22: 6071 | AE22: + | AG22: 6072
B23: OTRAS CUENTAS Y DOCUMENTOS POR COBRAR CORRIENTES | D23: RELACIONADOS | G23: LOCALES | O23: 318 | P23: + | R23: DIVIDENDOS | AD23: 6081 | AE23: + | AG23: 6082
G24: DEL EXTERIOR | O24: 319 | P24: + | R24: RENTAS EXENTAS PROVENIENTES DE DONACIONES Y APORTACIONES | V24: DE RECURSOS PÚBLICOS | AD24: 6091 | AE24: + | AG24: 6092
D25: NO RELACIONADOS | G25: LOCALES | O25: 320 | P25: + | V25: DE OTRAS LOCALES | AD25: 6101 | AE25: + | AG25: 6102
G26: DEL EXTERIOR | O26: 321 | P26: + | V26: DEL EXTERIOR | AD26: 6111 | AE26: + | AG26: 6112
B27: (-) PROVISIÓN CUENTAS INCOBRABLES Y DETERIORO | O27: 322 | P27: (-) | R27: OTROS INGRESOS PROVENIENTES DEL EXTERIOR | AD27: 6121 | AE27: + | AG27: 6122
B28: CRÉDITO TRIBUTARIO A FAVOR DEL SUJETO PASIVO (ISD) | O28: 323 | P28: + | R28: OTRAS RENTAS | AD28: 6131 | AE28: + | AF28: 4486.37 | AG28: 6132
B29: CRÉDITO TRIBUTARIO A FAVOR DEL SUJETO PASIVO (IVA) | O29: 324 | P29: + | R29: TOTAL INGRESOS | AA29: SUMAR DEL 6011 AL 6131 | AD29: 6999 | AE29: = | AF29: =SUM(AF16:AF28) -> 2476691.7 | AG29: En la columna "Valor exento" registre la porción del monto declarado en la columna "total ingresos" considerada como exenta de Impuesto a la Renta.
B30: CRÉDITO TRIBUTARIO A FAVOR DEL SUJETO PASIVO (RENTA) | O30: 325 | P30: + | Q30: 45110.61 | R30: VENTAS NETAS DE PROPIEDADES, PLANTA Y EQUIPO (INFORMATIVO) | AD30: 6001
B31: INVENTARIO DE MATERIA PRIMA | O31: 326 | P31: + | R31: INGRESOS POR REEMBOLSO COMO INTERMEDIARIO (INFORMATIVO) | AD31: 6002
B32: INVENTARIO DE PRODUCTOS EN PROCESO | O32: 327 | P32: + | R32: COSTOS Y GASTOS
B33: INVENTARIO DE SUMINISTROS Y MATERIALES | O33: 328 | P33: +
B34: INVENTARIO DE PROD. TERM. Y MERCAD. EN ALMACÉN | O34: 329 | P34: + | AA34: COSTO | AD34: GASTO | AG34: VALOR NO DEDUCIBLE (A efectos de la Conciliación Tributaria)
B35: MERCADERÍAS EN TRÁNSITO | O35: 330 | P35: + | R35: INVENTARIO INICIAL DE BIENES NO PRODUCIDOS POR EL SUJETO PASIVO | AA35: 7010 | AB35: +
B36: OBRAS EN CURSO BAJO CONTRATO DE CONSTRUCCIÓN (NIC 11) | O36: 331 | P36: + | R36: COMPRAS NETAS LOCALES DE BIENES NO PRODUCIDOS POR EL SUJETO PASIVO | AA36: 7011 | AB36: + | AG36: 7012
B37: INVENTARIO DE OBRAS EN CONSTRUCCIÓN (NIC 2) | O37: 332 | P37: + | R37: COMPRAS NETAS LOCALES PRODUCTO DE LA ACTIVIDAD DE COMISIONISTA | AA37: 7021 | AB37: + | AG37: 7023
B38: INVENTARIO DE OBRAS TERMINADAS (NIC 2) | O38: 333 | P38: + | R38: IMPORTACIONES DE BIENES NO PRODUCIDOS POR EL SUJETO PASIVO | AA38: 7031 | AB38: + | AD38: 7032 | AE38: + | AG38: 7033
B39: INVENTARIO DE MATERIALES O BIENES PARA LA CONSTRUCCIÓN (NIC 2) | O39: 334 | P39: + | R39: (-) INVENTARIO FINAL DE BIENES NO PRODUCIDOS POR EL SUJETO PASIVO | AA39: 7041 | AB39: (-)
B40: INVENTARIO REPUESTOS, HERRAMIENTAS Y ACCESORIOS | O40: 335 | P40: + | R40: INVENTARIO INICIAL DE MATERIA PRIMA | AA40: 7051 | AB40: +
B41: (-) PROVISIÓN DE INVENTARIOS POR VALOR NETO DE REALIZACIÓN Y OTRAS PÉRDIDAS EN INVENTARIO | O41: 336 | P41: (-) | R41: COMPRAS NETAS LOCALES DE MATERIA PRIMA | AA41: 7061 | AB41: + | AG41: 7063
B42: ACTIVOS PAGADOS POR ANTICIPADO | O42: 337 | P42: + | R42: IMPORTACIONES DE MATERIA PRIMA | AA42: 7071 | AB42: + | AG42: 7073
B43: (-) PROVISIÓN POR DETERIORO DEL VALOR DEL ACTIVO CORRIENTE | O43: 338 | P43: (-) | R43: (-) INVENTARIO FINAL DE MATERIA PRIMA | AA43: 7081 | AB43: (-)
...

Sheet 4
C10: ESTADO DE SITUACIÓN FINANCIERA
C11: CUENTA | D11: VALOR | E11: ANÁLISIS VERTICAL
C12: ACTIVO
C13: Efectivo y equivalentes al efectivo | D13: ='3'!Q16 -> 48942.22 | E13: =(D13*$E$22)/$D$22 -> 0.10384775
C14: Cuentas y docuemntos por cobrar clientes corrientes | D14: ='3'!Q19+'3'!Q20+'3'!Q21+'3'!Q22 -> 26076.63 | E14: =(D14*$E$22)/$D$22 -> 0.055330538
C15: Otras cuentas y documentos por cobrar | D15: ='3'!Q23+'3'!Q24+'3'!Q25+'3'!Q26 -> 0 | E15: =(D15*$E$22)/$D$22 -> 0
C16: Inventario | D16: ='3'!Q31+'3'!Q33+'3'!Q34+'3'!Q37+'3'!Q38+'3'!Q39+'3'!Q40+'3'!Q35+'3'!Q36-'3'!Q41 -> 0 | E16: =(D16*$E$22)/$D$22 -> 0
C17: Otros activos corrientes | D17: =SUM(D18)-D13-D15-D16-D14 -> 81171.29 | E17: =(D17*$E$22)/$D$22 -> 0.1722328
C18: Total Activo Corriente | D18: ='3'!Q46 -> 156190.14 | E18: =(D18*$E$22)/$D$22 -> 0.33141109
C19: Propiedad,planta y equipo | D19: =SUM('3'!Q49:Q58) -> 517843.49 | E19: =(D19*$E$22)/$D$22 -> 1.098783
C20: Otros activos no corrientes | D20: =D21-D19 -> -202745.42 | E20: =(D20*$E$22)/$D$22 -> -0.43019413
C21: Total Activo no Corriente | D21: ='3'!Q96 -> 315098.07 | E21: =(D21*$E$22)/$D$22 -> 0.66858891
C22: TOTAL ACTIVO | D22: =D18+D21 -> 471288.21 | E22: 1
C23: PASIVO
C24: Cuentas y documentos por pagar comerciales corrrientes | D24: ='3'!Q102+'3'!Q103+'3'!Q104+'3'!Q105 -> 94505.98 | E24: =(D24*$E$39)/$D$39 -> 0.20052693
C25: Otras cuentas y documentos por cobrar corrientes | D25: ='3'!Q110+'3'!Q111+'3'!Q112+'3'!Q113 -> 19240 | E25: =(D25*$E$39)/$D$39 -> 0.040824276
C26: Obligaciones con instituciones financieras | D26: ='3'!Q106+'3'!Q107+'3'!Q108+'3'!Q109 -> 7155.09 | E26: =(D26*$E$39)/$D$39 -> 0.015181984
C27: Otros pasivos corrientes | D27: =SUM(D28)-D24-D26-D25 -> 23685.08 | E27: =(D27*$E$39)/$D$39 -> 0.050256042
C28: Total Pasivo Corriente | D28: ='3'!Q126 -> 144586.15 | E28: =(D28*$E$39)/$D$39 -> 0.30678924
C29: Cuentas y documentos por pagar comerciales no corrientes | D29: ='3'!Q136+'3'!Q137+'3'!Q138+'3'!Q139 -> 47835.18 | E29: =(D29*$E$39)/$D$39 -> 0.10149878
C30: Otras cuentas y documentos por pagar no corrientes | D30: ='3'!Q136+'3'!Q137+'3'!Q138+'3'!Q139 -> 47835.18 | E30: =(D30*$E$39)/$D$39 -> 0.10149878
C31: Obligaciones con instituciones financieras no corrientes | D31: ='3'!Q132+'3'!Q133+'3'!Q134+'3'!Q135 -> 182087.17 | E31: =(D31*$E$39)/$D$39 -> 0.38636055
C32: Otros pasivos corrientes | D32: =SUM(D33)-D29-D31-D30 -> -47835.18 | E32: =(D32*$E$39)/$D$39 -> -0.10149878
C33: Total Pasivo no Corriente | D33: ='3'!Q148 -> 229922.35 | E33: =(D33*$E$39)/$D$39 -> 0.48785933
C34: TOTAL PASIVO | D34: =D28+D33 -> 374508.5 | E34: =(D34*$E$39)/$D$39 -> 0.79464857
C35: PATRIMONIO
C36: Capital | D36: ='3'!Q153 -> 800 | E36: =(D36*$E$39)/$D$39 -> 0.0016974751
C37: Otros rubros del patrimonio | D37: ='3'!Q155-'3'!Q154+'3'!Q156+'3'!Q157+'3'!Q158+'3'!Q159+'3'!Q160+'3'!Q161+'3'!Q162+'3'!Q163+'3'!Q164-'3'!Q165+'3'!Q166+'3'!Q167+'3'!Q170+'3'!Q169+'3'!Q168 -> 95979.71 | E37: =(D37*$E$39)/$D$39 -> 0.20365396
C38: Total Patrimonio | D38: ='3'!Q172 -> 96779.71 | E38: =(D38*$E$39)/$D$39 -> 0.20535143
C39: TOTAL PASIVO Y PATRIMONIO | D39: =SUM(D34+D38) -> 471288.21 | E39: 1
C41: ESTADO DE RESULTADOS
C42: CUENTA | D42: VALOR | E42: PORCENTAJE
C43: Utilidad Neta | D43: ='3'!AF108 -> 43195.64 | E43: =D43*$E$50/$D$50 -> 0.0087204314
C44: Costos y gastos | D44: ='3'!AF100 -> 2433496.1 | E44: =D44*$E$50/$D$50 -> 0.49127957
C45: Ingresos | D45: ='3'!AF29 -> 2476691.7 | E45: =D45*$E$50/$D$50 -> 0.5
C46: Ganancias retenidas | D46: ='3'!Q153 -> 800 | E46: =D46*$E$43/$D$43 -> 0.00016150577
C47: Gastos por intereses | D47: ='3'!AF82 -> 0 | E47: =D47*$E$43/$D$43 -> 0
E48: =D48*$E$43/$D$43 -> 0
D50: =D45+D44+D43 -> 4953383.4 | E50: 1

Sheet 5
C17: Mediante los cálculos de indicadores de valor diferencial comparar la capacidad que tiene la empresa en comparación al sector
C21: Indicador | E21: Resultado | F21: Interpretación | K21: Gráfico
C22: ROE | D22: EMPRESA | E22: ='4'!D43/'4'!D38 -> 0.4463295 | F22: =VLOOKUP(E22,'TABLAS - GRÁFICAS'!E13:F513,2,TRUE) -> ROE por encima de los estándares óptimos, Gran trabajo
D24: SECTOR | E24: 0.24
D26: ÓPTIMO | E26: 0.232
C27: Activos totales/ Activos corrientes | D27: EMPRESA | E27: ='4'!D22/'4'!D18 -> 3.0174005 | F27: =VLOOKUP(E27,'TABLAS - GRÁFICAS'!K13:L513,2,TRUE) -> Muy bien, su empresa tiene los estándares del activo necesarios
D30: SECTOR | E30: 2.14
D33: ÓPTIMO | E33: 2.14
C34: ROA | D34: EMPRESA | E34: ='4'!D43/'4'!D22 -> 0.091654404 | F34: =VLOOKUP(E34,'TABLAS - GRÁFICAS'!O13:P519,2,TRUE) -> Se detectó un ROA alto significá que la empresa es capaz de generar más dinero con menor inversión. Felicitaciones
D37: SECTOR | E37: 0.13
D40: ÓPTIMO | E40: 0.13
C41: Rotación de activos | D41: EMPRESA | E41: ='4'!D45/'4'!D22 -> 5.2551531 | F41: =VLOOKUP(E41,'TABLAS - GRÁFICAS'!R13:S513,2,TRUE) -> Se detectó una rotación de activos alta en consecuente la empresa tendrá una productividad mayor. Muy bien
D44: SECTOR | E44: 9.92
D49: ÓPTIMO | E49: 1

Sheet 6
C17: Es un conjunto de datos que nos ayudan a medir objetivamente, en un ámbito espacio temporal, la evolución de acciones asumidas por el Estado para el cumplimiento de un determinado compromiso adquirido.
C21: Indicador | E21: Resultado | F21: Interpretación | K21: Gráfico
C22: Liquidez Corriente | D22: EMPRESA | E22: =+'4'!D18/'4'!D28 -> 1.0802566 | F22: =VLOOKUP(E22,'TABLAS - GRÁFICAS'!AF13:AG193,2,TRUE) -> La empresa no cuenta con liquidez suficiente para realizar sus actividades y por ende no pagar sus deudas.
D25: SECTOR | E25: 2.21
D30: ÓPTIMO | E30: 1.1
C31: Endeudamiento | D31: EMPRESA | E31: =+'4'!D34/'4'!D22 -> 0.79464857 | F31: =VLOOKUP(E31,'TABLAS - GRÁFICAS'!AJ13:AK513,2,TRUE) -> La empresa muestra que las deudas representan la mayor parte de los activos, eso significa que una empresa al presentar fluctuaciones con sus ventas, tendrá dificultades para mantenerse y cumplir con sus obligaciones; ya que se traduce que presenta un grado de endeudamiento alto o riesgoso.
D34: SECTOR | E34: 0.49
D39: ÓPTIMO | E39: 0.5
C40: Ganancias Retenidas/Ingresos | D40: EMPRESA | E40: ='4'!D46/'4'!D43 -> 0.018520388 | F40: =VLOOKUP(E40,'TABLAS - GRÁFICAS'!AN13:AO513,2,TRUE) -> La empresa posee una deficiente capacidad de ganancias retenidas sobre los ingresos.
D43: SECTOR | E43: 0.08
D48: ÓPTIMO | E48: 0.08
C49: Gasto por Interés/Utilidad antes de impuesto | D49: EMPRESA | E49: =+'4'!D47/'4'!D43 -> 0 | F49: =VLOOKUP(E49,'TABLAS - GRÁFICAS'!AR13:AS513,2,TRUE) -> Existe una deficiente administración de los recursos, por lo que a partir de sus gastos efectuados el negocio no puede cubrir sus costos de producción y contar con un margen de utilidad.
D52: SECTOR | E52: 0.02
D57: ÓPTIMO | E57: 0.02

Sheet resumen
B8: RESUMEN DE LA SOSTENIBILIDAD FINANCIERA
C10: Tabla de equivalencia
C11: Regla de decisión
C12: Indicador de referencia
C13: N | D13: Indicador | F13: Referencia | G13: Indicador > Referencia | H13: Indicador < Referencia | L13: Valor Total | M13: Equivalente
C14: X1 | D14: ROE | F14: 0.29 | G14: 1 | H14: 0 | L14: 1 a 3 | M14: Baja
C15: X2 | D15: EFICIENCIA | F15: 1.37 | G15: 1 | H15: 0 | L15: 4 a 6 | M15: Media
C16: X3 | D16: ROA | F16: 0.13 | G16: 1 | H16: 0 | L16: 7 y 8 | M16: Alta
C17: X4 | D17: ROTACIÓN DE ACTIVOS | F17: 5.31 | G17: 1 | H17: 0
C18: X5 | D18: LIQUIDEZ CORRIENTE | F18: 2.12 | G18: 1 | H18: 0
C19: X6 | D19: ENDEUDAMIENTO | F19: 0.5 | G19: 0 | H19: 1
C20: X7 | D20: GANANCIAS RETENIDAS_ INGRESOS | F20: 0.09 | G20: 1 | H20: 0
C21: X8 | D21: GASTOS POR INTERESES_EBIT | F21: 0.02 | G21: 0 | H21: 1
C22: TOTAL | G22: 8
C24: N | D24: Indicadores de Valor | H24: Indicadores de Continuidad | L24: TOTAL | M24: EQUIVALENTE
D25: X1 | E25: X2 | F25: X3 | G25: X4 | H25: X5 | I25: X6 | J25: X7 | K25: X8
D26: 0.29 | E26: 1.37 | F26: 0.13 | G26: 5.31 | H26: 2.12 | I26: 0.5 | J26: 0.09 | K26: 0.02
C27: 1 | D27: =IF([2]datos!D6>=resumen!$F$14,1,0) -> 0 | E27: =IF([2]datos!E6>=$F$15,1,0) -> 0 | F27: =IF([2]datos!F6>=$F$16,1,0) -> 0 | G27: =IF([2]datos!G6>=$F$17,1,0) -> 0 | H27: =IF([2]datos!H6>=$F$18,1,0) -> 0 | I27: =IF([2]datos!I6>=$F$19,0,1) -> 0 | J27: =IF([2]datos!J6>=$F$20,1,0) -> 0 | K27: =IF([2]datos!K6>=$F$21,1,0) -> 0 | L27: =SUM(D27:K27) -> 0 | M27: =IF(L27<=3,"Baja Sostenibilidad",IF(L27<=6,"Media Sostenibilidad","Alta Sostenibilidad")) -> Baja Sostenibilidad | N27: =L27 -> 0
C28: 2 | D28: =IF([2]datos!D7>=resumen!$F$14,1,0) -> 0 | E28: =IF([2]datos!E7>=$F$15,1,0) -> 0 | F28: =IF([2]datos!F7>=$F$16,1,0) -> 1 | G28: =IF([2]datos!G7>=$F$17,1,0) -> 0 | H28: 0 | I28: =IF([2]datos!I7>=$F$19,0,1) -> 0 | J28: =IF([2]datos!J7>=$F$20,1,0) -> 1 | K28: =IF([2]datos!K7>=$F$21,1,0) -> 1 | L28: =SUM(D28:K28) -> 3 | M28: =IF(L28<=3,"Baja Sostenibilidad",IF(L28<=6,"Media Sostenibilidad","Alta Sostenibilidad")) -> Baja Sostenibilidad | N28: =L28 -> 3
C29: 3 | D29: =IF([2]datos!D8>=resumen!$F$14,1,0) -> 0 | E29: =IF([2]datos!E8>=$F$15,1,0) -> 0 | F29: =IF([2]datos!F8>=$F$16,1,0) -> 0 | G29: =IF([2]datos!G8>=$F$17,1,0) -> 0 | H29: =IF([2]datos!H8>=$F$18,1,0) -> 1 | I29: 0 | J29: =IF([2]datos!J8>=$F$20,1,0) -> 1 | K29: =IF([2]datos!K8>=$F$21,1,0) -> 1 | L29: =SUM(D29:K29) -> 3 | M29: =IF(L29<=3,"Baja Sostenibilidad",IF(L29<=6,"Media Sostenibilidad","Alta Sostenibilidad")) -> Baja Sostenibilidad | N29: =L29 -> 3
C30: 4 | D30: =IF([2]datos!D9>=resumen!$F$14,1,0) -> 0 | E30: =IF([2]datos!E9>=$F$15,1,0) -> 1 | F30: =IF([2]datos!F9>=$F$16,1,0) -> 0 | G30: =IF([2]datos!G9>=$F$17,1,0) -> 0 | H30: =IF([2]datos!H9>=$F$18,1,0) -> 1 | I30: =IF([2]datos!I9>=$F$19,0,1) -> 1 | J30: =IF([2]datos!J9>=$F$20,1,0) -> 1 | K30: =IF([2]datos!K9>=$F$21,1,0) -> 1 | L30: =SUM(D30:K30) -> 5 | M30: =IF(L30<=3,"Baja Sostenibilidad",IF(L30<=6,"Media Sostenibilidad","Alta Sostenibilidad")) -> Media Sostenibilidad | N30: =L30 -> 5
C31: 5 | D31: =IF([2]datos!D10>=resumen!$F$14,1,0) -> 0 | E31: =IF([2]datos!E10>=$F$15,1,0) -> 0 | F31: =IF([2]datos!F10>=$F$16,1,0) -> 0 | G31: =IF([2]datos!G10>=$F$17,1,0) -> 0 | H31: =IF([2]datos!H10>=$F$18,1,0) -> 0 | I31: =IF([2]datos!I10>=$F$19,0,1) -> 0 | J31: =IF([2]datos!J10>=$F$20,1,0) -> 0 | K31: =IF([2]datos!K10>=$F$21,1,0) -> 1 | L31: =SUM(D31:K31) -> 1 | M31: =IF(L31<=3,"Baja Sostenibilidad",IF(L31<=6,"Media Sostenibilidad","Alta Sostenibilidad")) -> Baja Sostenibilidad | N31: =L31 -> 1
C32: 6 | D32: =IF([2]datos!D11>=resumen!$F$14,1,0) -> 0 | E32: =IF([2]datos!E11>=$F$15,1,0) -> 1 | F32: =IF([2]datos!F11>=$F$16,1,0) -> 0 | G32: =IF([2]datos!G11>=$F$17,1,0) -> 0 | H32: =IF([2]datos!H11>=$F$18,1,0) -> 0 | I32: =IF([2]datos!I11>=$F$19,0,1) -> 0 | J32: =IF([2]datos!J11>=$F$20,1,0) -> 1 | K32: =IF([2]datos!K11>=$F$21,1,0) -> 0 | L32: =SUM(D32:K32) -> 2 | M32: =IF(L32<=3,"Baja Sostenibilidad",IF(L32<=6,"Media Sostenibilidad","Alta Sostenibilidad")) -> Baja Sostenibilidad | N32: =L32 -> 2
C33: 7 | D33: =IF([2]datos!D12>=resumen!$F$14,1,0) -> 0 | E33: =IF([2]datos!E12>=$F$15,1,0) -> 0 | F33: =IF([2]datos!F12>=$F$16,1,0) -> 0 | G33: =IF([2]datos!G12>=$F$17,1,0) -> 0 | H33: =IF([2]datos!H12>=$F$18,1,0) -> 0 | I33: =IF([2]datos!I12>=$F$19,0,1) -> 0 | J33: =IF([2]datos!J12>=$F$20,1,0) -> 0 | K33: =IF([2]datos!K12>=$F$21,1,0) -> 1 | L33: =SUM(D33:K33) -> 1 | M33: =IF(L33<=3,"Baja Sostenibilidad",IF(L33<=6,"Media Sostenibilidad","Alta Sostenibilidad")) -> Baja Sostenibilidad | N33: =L33 -> 1
C34: 8 | D34: =IF([2]datos!D13>=resumen!$F$14,1,0) -> 0 | E34: =IF([2]datos!E13>=$F$15,1,0) -> 0 | F34: =IF([2]datos!F13>=$F$16,1,0) -> 1 | G34: =IF([2]datos!G13>=$F$17,1,0) -> 0 | H34: =IF([2]datos!H13>=$F$18,1,0) -> 1 | I34: =IF([2]datos!I13>=$F$19,0,1) -> 1 | J34: =IF([2]datos!J13>=$F$20,1,0) -> 1 | K34: =IF([2]datos!K13>=$F$21,1,0) -> 0 | L34: =SUM(D34:K34) -> 4 | M34: =IF(L34<=3,"Baja Sostenibilidad",IF(L34<=6,"Media Sostenibilidad","Alta Sostenibilidad")) -> Media Sostenibilidad | N34: =L34 -> 4
C35: 9 | D35: =IF([2]datos!D14>=resumen!$F$14,1,0) -> 0 | E35: =IF([2]datos!E14>=$F$15,1,0) -> 0 | F35: =IF([2]datos!F14>=$F$16,1,0) -> 0 | G35: =IF([2]datos!G14>=$F$17,1,0) -> 0 | H35: =IF([2]datos!H14>=$F$18,1,0) -> 0 | I35: =IF([2]datos!I14>=$F$19,0,1) -> 0 | J35: =IF([2]datos!J14>=$F$20,1,0) -> 1 | K35: =IF([2]datos!K14>=$F$21,1,0) -> 0 | L35: =SUM(D35:K35) -> 1 | M35: =IF(L35<=3,"Baja Sostenibilidad",IF(L35<=6,"Media Sostenibilidad","Alta Sostenibilidad")) -> Baja Sostenibilidad | N35: =L35 -> 1
C36: 10 | D36: =IF([2]datos!D15>=resumen!$F$14,1,0) -> 0 | E36: =IF([2]datos!E15>=$F$15,1,0) -> 0 | F36: =IF([2]datos!F15>=$F$16,1,0) -> 1 | G36: =IF([2]datos!G15>=$F$17,1,0) -> 1 | H36: =IF([2]datos!H15>=$F$18,1,0) -> 1 | I36: =IF([2]datos!I15>=$F$19,0,1) -> 1 | J36: =IF([2]datos!J15>=$F$20,1,0) -> 0 | K36: =IF([2]datos!K15>=$F$21,1,0) -> 0 | L36: =SUM(D36:K36) -> 4 | M36: =IF(L36<=3,"Baja Sostenibilidad",IF(L36<=6,"Media Sostenibilidad","Alta Sostenibilidad")) -> Media Sostenibilidad | N36: =L36 -> 4
C37: 11 | D37: =IF([2]datos!D16>=resumen!$F$14,1,0) -> 0 | E37: =IF([2]datos!E16>=$F$15,1,0) -> 1 | F37: =IF([2]datos!F16>=$F$16,1,0) -> 1 | G37: =IF([2]datos!G16>=$F$17,1,0) -> 0 | H37: =IF([2]datos!H16>=$F$18,1,0) -> 0 | I37: =IF([2]datos!I16>=$F$19,0,1) -> 0 | J37: =IF([2]datos!J16>=$F$20,1,0) -> 1 | K37: =IF([2]datos!K16>=$F$21,1,0) -> 0 | L37: =SUM(D37:K37) -> 3 | M37: =IF(L37<=3,"Baja Sostenibilidad",IF(L37<=6,"Media Sostenibilidad","Alta Sostenibilidad")) -> Baja Sostenibilidad | N37: =L37 -> 3
C38: 12 | D38: =IF([2]datos!D17>=resumen!$F$14,1,0) -> 0 | E38: =IF([2]datos!E17>=$F$15,1,0) -> 0 | F38: =IF([2]datos!F17>=$F$16,1,0) -> 1 | G38: =IF([2]datos!G17>=$F$17,1,0) -> 0 | H38: =IF([2]datos!H17>=$F$18,1,0) -> 0 | I38: =IF([2]datos!I17>=$F$19,0,1) -> 0 | J38: =IF([2]datos!J17>=$F$20,1,0) -> 0 | K38: =IF([2]datos!K17>=$F$21,1,0) -> 0 | L38: =SUM(D38:K38) -> 1 | M38: =IF(L38<=3,"Baja Sostenibilidad",IF(L38<=6,"Media Sostenibilidad","Alta Sostenibilidad")) -> Baja Sostenibilidad | N38: =L38 -> 1
C39: 13 | D39: =IF([2]datos!D18>=resumen!$F$14,1,0) -> 0 | E39: =IF([2]datos!E18>=$F$15,1,0) -> 0 | F39: =IF([2]datos!F18>=$F$16,1,0) -> 0 | G39: =IF([2]datos!G18>=$F$17,1,0) -> 0 | H39: =IF([2]datos!H18>=$F$18,1,0) -> 0 | I39: =IF([2]datos!I18>=$F$19,0,1) -> 0 | J39: =IF([2]datos!J18>=$F$20,1,0) -> 0 | K39: =IF([2]datos!K18>=$F$21,1,0) -> 0 | L39: =SUM(D39:K39) -> 0 | M39: =IF(L39<=3,"Baja Sostenibilidad",IF(L39<=6,"Media Sostenibilidad","Alta Sostenibilidad")) -> Baja Sostenibilidad | N39: =L39 -> 0
C40: 14 | D40: =IF([2]datos!D19>=resumen!$F$14,1,0) -> 0 | E40: =IF([2]datos!E19>=$F$15,1,0) -> 1 | F40: =IF([2]datos!F19>=$F$16,1,0) -> 1 | G40: =IF([2]datos!G19>=$F$17,1,0) -> 0 | H40: =IF([2]datos!H19>=$F$18,1,0) -> 0 | I40: =IF([2]datos!I19>=$F$19,0,1) -> 0 | J40: =IF([2]datos!J19>=$F$20,1,0) -> 0 | K40: =IF([2]datos!K19>=$F$21,1,0) -> 1 | L40: =SUM(D40:K40) -> 3 | M40: =IF(L40<=3,"Baja Sostenibilidad",IF(L40<=6,"Media Sostenibilidad","Alta Sostenibilidad")) -> Baja Sostenibilidad | N40: =L40 -> 3
C41: 15 | D41: =IF([2]datos!D20>=resumen!$F$14,1,0) -> 0 | E41: =IF([2]datos!E20>=$F$15,1,0) -> 1 | F41: =IF([2]datos!F20>=$F$16,1,0) -> 0 | G41: =IF([2]datos!G20>=$F$17,1,0) -> 0 | H41: =IF([2]datos!H20>=$F$18,1,0) -> 1 | I41: =IF([2]datos!I20>=$F$19,0,1) -> 0 | J41: =IF([2]datos!J20>=$F$20,1,0) -> 1 | K41: =IF([2]datos!K20>=$F$21,1,0) -> 0 | L41: =SUM(D41:K41) -> 3 | M41: =IF(L41<=3,"Baja Sostenibilidad",IF(L41<=6,"Media Sostenibilidad","Alta Sostenibilidad")) -> Baja Sostenibilidad | N41: =L41 -> 3
... C60: 34 | D60: =IF([2]datos!D39>=resumen!$F$14,1,0) -> 0 | E60: =IF([2]datos!E39>=$F$15,1,0) -> 0 | F60: =IF([2]datos!F39>=$F$16,1,0) -> 0 | G60: =IF([2]datos!G39>=$F$17,1,0) -> 0 | H60: =IF([2]datos!H39>=$F$18,1,0) -> 0 | I60: =IF([2]datos!I39>=$F$19,0,1) -> 0 | J60: =IF([2]datos!J39>=$F$20,1,0) -> 0 | K60: =IF([2]datos!K39>=$F$21,1,0) -> 0 | L60: =SUM(D60:K60) -> 0 | M60: =IF(L60<=3,"Baja Sostenibilidad",IF(L60<=6,"Media Sostenibilidad","Alta Sostenibilidad")) -> Baja Sostenibilidad | N60: =L60 -> 0
C61: 35 | D61: =IF([2]datos!D40>=resumen!$F$14,1,0) -> 1 | E61: 1 | F61: 1 | G61: 1 | H61: 1 | I61: 0 | J61: 0 | K61: 0 | L61: =SUM(D61:K61) -> 5 | M61: =IF(L61<=3,"Baja Sostenibilidad",IF(L61<=6,"Media Sostenibilidad","Alta Sostenibilidad")) -> Media Sostenibilidad | N61: =L61 -> 5
D62: =SUM(D27:D61) -> 11 | E62: =SUM(E27:E61) -> 12 | F62: =SUM(F27:F61) -> 18 | G62: =SUM(G27:G61) -> 6 | H62: =SUM(H27:H61) -> 10 | I62: =SUM(I27:I61) -> 8 | J62: =SUM(J27:J61) -> 12 | K62: =SUM(K27:K61) -> 9

Sheet 7
B4: SISTEMA GESTIÓN DE RIESGO INHERENTE PARA LAS PYMES COMERCIALES DE LA PROVINCIA DE COTOPAXI
B5: CUESTIONARIO DE RECONOCIMIENTO PARA RIESGOS INHERENTES
B6: Instrucción: Marque con una X en la casilla que crea pertinente
B7: CALIFICACIÓN DEL NIVEL DE RIESGO Y CONFIANZA
B8: N° | C8: POSIBLES RIESGOS INHERENTES EN EMPRESAS COMERCIALES | D8: PT | E8: SI | F8: NO | G8: CT
D9: =SUM(D10:D24) -> 15
B10: PR1 | C10: ¿Se aplica indicadores financieros en la organización? | D10: 1 | G10: =IF(E10="x",1,0) -> 0
B11: PR2 | C11: ¿El personal conoce los parámetros a seguir en caso de un accidente? | D11: 1 | E11: x | G11: =IF(E11="x",1,0) -> 1
B12: PR3 | C12: ¿Se capacita al personal de la empresa cada cierto tiempo sobre las leyes de tránsito y así evitar posibles accidentes? | D12: 1 | G12: =IF(E12="x",1,0) -> 0
B13: PR4 | C13: ¿Existe un reglamento interno para la comisión y accidentes? | D13: 1 | G13: =IF(E13="x",1,0) -> 0
B14: PR5 | C14: ¿Se analiza el motivo del accidente previa verificación, para proceder tomar las acciones requeridas? | D14: 1 | E14: x | G14: =IF(E14="x",1,0) -> 1
B15: PR6 | C15: ¿Se mantiene un archivo con documentación relevante de los accidentes de tránsito? | D15: 1 | G15: =IF(E15="x",1,0) -> 0
B16: PR7 | C16: ¿Existen montos separados en casos de accidentes? | D16: 1 | G16: =IF(E16="x",1,0) -> 0
B17: PR8 | C17: ¿Se efectúa un proceso de administración y gestión de riesgo dentro de la organización? | D17: 1 | E17: x | G17: =IF(E17="x",1,0) -> 1
B18: PR9 | C18: ¿La empresa cuenta con un proceso para la identificación de los riesgos que puedan afectar y sean inherentes a su actividad económica? | D18: 1 | E18: x | G18: =IF(E18="x",1,0) -> 1
B19: PR10 | C19: ¿Se encuentran definidos mecanismos de control interno para los principales procesos que desarrolla la organización? | D19: 1 | G19: =IF(E19="x",1,0) -> 0
B20: PR11 | C20: ¿En la empresa existe un plan estratégico para responder a situaciones de riesgos? | D20: 1 | G20: =IF(E20="x",1,0) -> 0
B21: PR12 | C21: ¿La empresa se adapta continuamente a sus actividades en función a los cambios de estrategias y procesos? | D21: 1 | E21: x | G21: =IF(E21="x",1,0) -> 1
B22: PR13 | C22: ¿Considera que la gestión de riesgos inherentes de la organización influye directamente en la sostenibilidad financiera? | D22: 1 | E22: x | G22: =IF(E22="x",1,0) -> 1
B23: PR14 | C23: ¿Se realiza análisis de indicadores financieros para la toma de decisiones empresariales? | D23: 1 | E23: x | G23: =IF(E23="x",1,0) -> 1
B24: PR15 | C24: ¿Se realiza un análisis con frecuencia a los Estados Financieros? | D24: 1 | G24: =IF(E24="x",1,0) -> 0
B25: CALIFICACION TOTAL | D25: CT= | G25: =COUNTIF(G10:G24,"1") -> 7
B26: PONDERACION TOTAL | D26: PT= | G26: =SUM(D10:D24) -> 15
B27: NIVEL DE CONFIANZA NC= CT/PT X 100 | D27: NC= | G27: =G25/G26 -> 0.46666667
B28: NIVEL DE RIESGO INHERENTE RI= 100% - NC | D28: NR= | G28: =100%-G27 -> 0.53333333

Sheet 8
B7: EVALUACIÓN DE RIESGOS
C9: CP= | D9: CALIFICACIÓN PORCENTUAL
C10: PT= | D10: PONDERACIÓN TOTAL
C11: CT= | D11: CALIFICACIÓN TOTAL
C13: NIVEL DE CONFIANZA
C14: BAJO | D14: MODERADO | E14: ALTO | F14: 0.15
C15: 15% - 50% | D15: 51% - 75% | E15: 76% - 95% | F15: 0.5
C16: 85% - 50% | D16: 49% - 25% | E16: 24% - 5% | F16: 0.75
C17: ALTO | D17: MODERADO | E17: BAJO
C18: NIVEL DE RIESGO (100 - NC)
C20: VALORACIÓN DE RIESGOS INHRENTES DE LA EMPRESA
D21: CP= (CT * 100)/PT | E21: =('7'!G25*100)/'7'!G26 -> 46.666667
C23: DETERMINACIÓN NIVEL DE RIESGOS
C24: NIVEL DE CONFIANZA | E24: FRECUENCIA
C25: NIVEL DE RIESGO | E25: BAJO | F25: MODERADO | G25: ALTO
C26: NC | D26: ='7'!G27 -> 0.46666667 | E26: =IF(AND(D26<$F$15),"BAJO",0) -> BAJO | F26: =IF(AND(D26<=F16,D26>=F15),"MODERADO","-") -> - | G26: =IF(D26>$F$16,"ALTO",0) -> 0
C27: NR | D27: ='7'!G28 -> 0.53333333 | E27: =IF(AND(D27<$F$15),"BAJO",0) -> 0 | F27: =IF(AND(D27<=F17,D27>=F16),"MODERADO","-") -> - | G27: =IF(AND(D27>$F$16),"ALTO",0) -> 0

Sheet 9
B7: NIVEL DE RIESGO INHERENTE GLOBAL
B8: =D10*100 -> 46.666667 | D8: 2 | E8: =H8+H9+H10+H11+H12-B8-D8 -> 151.33333 | I8: RIESGO | K8: CONFIANZA
B9: =D11*100 -> 53.333333 | D9: 2 | E9: =H9+H10+H11+H12+H8-B9-D9 -> 144.66667 | H9: 50 | I9: BAJO | J9: 25 | K9: BAJO
B10: NIVEL DE RIESGO | D10: ='8'!D26 -> 0.46666667 | E10: =100%-D10 -> 0.53333333 | H10: 25 | I10: MODERADO | J10: 25 | K10: MODERADO
B11: NIVEL DE RIESGO | D11: ='8'!D27 -> 0.53333333 | E11: =100%-D11 -> 0.46666667 | H11: 25 | I11: ALTO | J11: 50 | K11: ALTO
H12: 100 | J12: 100

Sheet 11
B9: MAPA DE RIESGOS
B10: N° | C10: Riesgo | D10: Tipo | E10: Descripción | F10: Responsable | G10: Causa | H10: Efecto | I10: Frecuencia | J10: Evaluación al riesgo | K10: Respuesta sugerida | L10: Respuesta al riesgo
B11: ='7'!B10 -> PR1 | C11: ='10'!C20 -> Indicadores Financieros | D11: Inherente | E11: Existencia de empresas que aplican mejores estrategias de manera que puedan lograr y mantenerse activas e innovadoras frente a otros. | F11: Gerencia | I11: =+'10'!F20 -> 8 | J11: =IF(AND(I11>=2,I11>=3,I11>=6),IF(I11>=6,"Riesgo Severo",""),IF(I11>2,"Riesgo Tolerable","Riesgo Aceptable")) -> Riesgo Severo | K11: =IF(AND(I11>=2,I11>=3,I11>=6),IF(I11>=6,"Evitar",""),IF(I11>2,"Reducir y Transferir","Aceptar activamente o Pasivamente")) -> Evitar | L11: =IF(AND(I11>=2,I11>=3,I11>=6),IF(I11>=6,"La empresa necesita de manera urgente implementar un sistema de gestón de riesgos inmediatamente",""),IF(I11>2,"Se sugiere a la empresa diseñar un control de evaluacion de riesgos y esta sea monitoriada bajo cierto tiempo ","La empresa cuenta con un sistema que control de gestión de riesgo efectivo")) -> La empresa necesita de manera urgente implementar un sistema de gestón de riesgos inmediatamente
B12: ='7'!B11 -> PR2 | C12: ='10'!C21 -> Si aplica la empresa | E12: Empresas que pueden elaborar y ofrecer un producto o servicio con la capacidad de sustituir los de tu empresa, ya sea por su menor precio o mejores funciones | F12: Gerencia | G12: Si la empresa sube los precios de los productos, los consumidores optarán por los productos que ofrecen los mismos benefcios menores precios. | H12: Limitan el potencial de la empresa, ya que su aparición supone una pérdida de ingresos y de ventas para la empresa. | I12: ='10'!F21 -> #N/A | J12: =IF(AND(I12>=2,I12>=3,I12>=6),IF(I12>=6,"Riesgo Severo",""),IF(I12>2,"Riesgo Tolerable","Riesgo Aceptable")) -> #N/A | K12: =IF(AND(I12>=2,I12>=3,I12>=6),IF(I12>=6,"Evitar",""),IF(I12>2,"Reducir y Transferir","Aceptar activamente o Pasivamente")) -> #N/A | L12: =IF(AND(I12>=2,I12>=3,I12>=6),IF(I12>=6,"La empresa necesita de manera urgente implementar un sistema de gestón de riesgos inmediatamente",""),IF(I12>2,"Se sugiere a la empresa diseñar un control de evaluacion de riesgos y esta sea monitoriada bajo cierto tiempo ","La empresa cuenta con un sistema que control de gestión de riesgo efectivo")) -> #N/A
B13: ='7'!B12 -> PR3 | C13: ='10'!C22 -> Capacitaciones constantes | D13: Inherente | E13: Inexistencia de organización en la entidad, retraso en los procesos normales | F13: Gerencia | G13: Cultura organizacional inmadura o inexistente: Cuando una organización opera sin tener una visión, misión y valores claros, establecidos, comunicados e interiorizados. | H13: El impacto de este hecho puede ser catastrófico para la continuidad del negocio. Al no tener claro hacia donde se quiere ir, cómo y mediante qué vehículos, nadie pondrá los medios para que estos objetivos se lleguen a cumplir. | I13: ='10'!F22 -> 2 | J13: =IF(AND(I13>=2,I13>=3,I13>=6),IF(I13>=6,"Riesgo Severo",""),IF(I13>2,"Riesgo Tolerable","Riesgo Aceptable")) -> Riesgo Aceptable | K13: =IF(AND(I13>=2,I13>=3,I13>=6),IF(I13>=6,"Evitar",""),IF(I13>2,"Reducir y Transferir","Aceptar activamente o Pasivamente")) -> Aceptar activamente o Pasivamente | L13: =IF(AND(I13>=2,I13>=3,I13>=6),IF(I13>=6,"La empresa necesita de manera urgente implementar un sistema de gestón de riesgos inmediatamente",""),IF(I13>2,"Se sugiere a la empresa diseñar un control de evaluacion de riesgos y esta sea monitoriada bajo cierto tiempo ","La empresa cuenta con un sistema que control de gestión de riesgo efectivo")) -> La empresa cuenta con un sistema que control de gestión de riesgo efectivo
B14: ='7'!B13 -> PR4 | C14: ='10'!C23 -> Reglamneto interno | D14: Inherente | E14: Entrada, la salida y la venta clandestina de mercancías prohibidas o sometidas a derechos en el que se defrauda a las autoridades locales | F14: Gerencia | G14: Altos precios de los productos en el país y falta de oportunidades laborales | H14: El contrabando genera a la entidad menos comercio formal perjudicando a los ingresos de la misma. | I14: ='10'!F23 -> 8 | J14: =IF(AND(I14>=2,I14>=3,I14>=6),IF(I14>=6,"Riesgo Severo",""),IF(I14>2,"Riesgo Tolerable","Riesgo Aceptable")) -> Riesgo Severo | K14: =IF(AND(I14>=2,I14>=3,I14>=6),IF(I14>=6,"Evitar",""),IF(I14>2,"Reducir y Transferir","Aceptar activamente o Pasivamente")) -> Evitar | L14: =IF(AND(I14>=2,I14>=3,I14>=6),IF(I14>=6,"La empresa necesita de manera urgente implementar un sistema de gestón de riesgos inmediatamente",""),IF(I14>2,"Se sugiere a la empresa diseñar un control de evaluacion de riesgos y esta sea monitoriada bajo cierto tiempo ","La empresa cuenta con un sistema que control de gestión de riesgo efectivo")) -> La empresa necesita de manera urgente implementar un sistema de gestón de riesgos inmediatamente
B15: ='7'!B14 -> PR5 | C15: ='10'!C24 -> Si aplica la empresa | D15: Inherente | E15: Se presentan fluctuaciones, bajando y subiendo, esporádicamente, sus ventas por motivos distintos de la estacionalidad. | F15: Gerencia | G15: Crisis económica nacional por la mala administración de gobierno, inflación. | H15: Reducción en las ventas por la situación ecónomica de los consumidores. | I15: ='10'!F24 -> #N/A | J15: =IF(AND(I15>=2,I15>=3,I15>=6),IF(I15>=6,"Riesgo Severo",""),IF(I15>2,"Riesgo Tolerable","Riesgo Aceptable")) -> #N/A | K15: =IF(AND(I15>=2,I15>=3,I15>=6),IF(I15>=6,"Evitar",""),IF(I15>2,"Reducir y Transferir","Aceptar activamente o Pasivamente")) -> #N/A | L15: =IF(AND(I15>=2,I15>=3,I15>=6),IF(I15>=6,"La empresa necesita de manera urgente implementar un sistema de gestón de riesgos inmediatamente",""),IF(I15>2,"Se sugiere a la empresa diseñar un control de evaluacion de riesgos y esta sea monitoriada bajo cierto tiempo ","La empresa cuenta con un sistema que control de gestión de riesgo efectivo")) -> #N/A
B16: ='7'!B15 -> PR6 | C16: ='10'!C25 -> Registro de documentación | D16: Inherente | E16: Se presentan fluctuaciones, bajando y subiendo, esporádicamente, sus ventas por motivos distintos de la estacionalidad. | F16: Gerencia | G16: Crisis económica nacional por la mala administración de gobierno, inflación. | H16: Reducción en las ventas por la situación ecónomica de los consumidores. | I16: ='10'!F25 -> 12 | J16: =IF(AND(I16>=2,I16>=3,I16>=6),IF(I16>=6,"Riesgo Severo",""),IF(I16>2,"Riesgo Tolerable","Riesgo Aceptable")) -> Riesgo Severo | K16: =IF(AND(I16>=2,I16>=3,I16>=6),IF(I16>=6,"Evitar",""),IF(I16>2,"Reducir y Transferir","Aceptar activamente o Pasivamente")) -> Evitar | L16: =IF(AND(I16>=2,I16>=3,I16>=6),IF(I16>=6,"La empresa necesita de manera urgente implementar un sistema de gestón de riesgos inmediatamente",""),IF(I16>2,"Se sugiere a la empresa diseñar un control de evaluacion de riesgos y esta sea monitoriada bajo cierto tiempo ","La empresa cuenta con un sistema que control de gestión de riesgo efectivo")) -> La empresa necesita de manera urgente implementar un sistema de gestón de riesgos inmediatamente
B17: ='7'!B16 -> PR7 | C17: ='10'!C26 -> Verificación de montos | D17: Inherente | E17: Se presentan fluctuaciones, bajando y subiendo, esporádicamente, sus ventas por motivos distintos de la estacionalidad. | F17: Gerencia | G17: Crisis económica nacional por la mala administración de gobierno, inflación. | H17: Reducción en las ventas por la situación ecónomica de los consumidores. | I17: ='10'!F26 -> 2 | J17: =IF(AND(I17>=2,I17>=3,I17>=6),IF(I17>=6,"Riesgo Severo",""),IF(I17>2,"Riesgo Tolerable","Riesgo Aceptable")) -> Riesgo Aceptable | K17: =IF(AND(I17>=2,I17>=3,I17>=6),IF(I17>=6,"Evitar",""),IF(I17>2,"Reducir y Transferir","Aceptar activamente o Pasivamente")) -> Aceptar activamente o Pasivamente | L17: =IF(AND(I17>=2,I17>=3,I17>=6),IF(I17>=6,"La empresa necesita de manera urgente implementar un sistema de gestón de riesgos inmediatamente",""),IF(I17>2,"Se sugiere a la empresa diseñar un control de evaluacion de riesgos y esta sea monitoriada bajo cierto tiempo ","La empresa cuenta con un sistema que control de gestión de riesgo efectivo")) -> La empresa cuenta con un sistema que control de gestión de riesgo efectivo
B18: ='7'!B17 -> PR8 | C18: ='10'!C27 -> Si aplica la empresa | D18: Inherente | E18: Se presentan fluctuaciones, bajando y subiendo, esporádicamente, sus ventas por motivos distintos de la estacionalidad. | F18: Gerencia | G18: Crisis económica nacional por la mala administración de gobierno, inflación. | H18: Reducción en las ventas por la situación ecónomica de los consumidores. | I18: ='10'!F27 -> #N/A | J18: =IF(AND(I18>=2,I18>=3,I18>=6),IF(I18>=6,"Riesgo Severo",""),IF(I18>2,"Riesgo Tolerable","Riesgo Aceptable")) -> #N/A | K18: =IF(AND(I18>=2,I18>=3,I18>=6),IF(I18>=6,"Evitar",""),IF(I18>2,"Reducir y Transferir","Aceptar activamente o Pasivamente")) -> #N/A | L18: =IF(AND(I18>=2,I18>=3,I18>=6),IF(I18>=6,"La empresa necesita de manera urgente implementar un sistema de gestón de riesgos inmediatamente",""),IF(I18>2,"Se sugiere a la empresa diseñar un control de evaluacion de riesgos y esta sea monitoriada bajo cierto tiempo ","La empresa cuenta con un sistema que control de gestión de riesgo efectivo")) -> #N/A
B19: ='7'!B18 -> PR9 | C19: ='10'!C28 -> Si aplica la empresa | D19: Inherente | E19: Se presentan fluctuaciones, bajando y subiendo, esporádicamente, sus ventas por motivos distintos de la estacionalidad. | F19: Gerencia | G19: Crisis económica nacional por la mala administración de gobierno, inflación. | H19: Reducción en las ventas por la situación ecónomica de los consumidores. | I19: ='10'!F28 -> #N/A | J19: =IF(AND(I19>=2,I19>=3,I19>=6),IF(I19>=6,"Riesgo Severo",""),IF(I19>2,"Riesgo Tolerable","Riesgo Aceptable")) -> #N/A | K19: =IF(AND(I19>=2,I19>=3,I19>=6),IF(I19>=6,"Evitar",""),IF(I19>2,"Reducir y Transferir","Aceptar activamente o Pasivamente")) -> #N/A | L19: =IF(AND(I19>=2,I19>=3,I19>=6),IF(I19>=6,"La empresa necesita de manera urgente implementar un sistema de gestón de riesgos inmediatamente",""),IF(I19>2,"Se sugiere a la empresa diseñar un control de evaluacion de riesgos y esta sea monitoriada bajo cierto tiempo ","La empresa cuenta con un sistema que control de gestión de riesgo efectivo")) -> #N/A
B20: ='7'!B19 -> PR10 | C20: ='10'!C29 -> Mecanismos de control interno | D20: Inherente | E20: Se presentan fluctuaciones, bajando y subiendo, esporádicamente, sus ventas por motivos distintos de la estacionalidad. | F20: Gerencia | G20: Crisis económica nacional por la mala administración de gobierno, inflación. | H20: Reducción en las ventas por la situación ecónomica de los consumidores. | I20: ='10'!F29 -> 8 | J20: =IF(AND(I20>=2,I20>=3,I20>=6),IF(I20>=6,"Riesgo Severo",""),IF(I20>2,"Riesgo Tolerable","Riesgo Aceptable")) -> Riesgo Severo | K20: =IF(AND(I20>=2,I20>=3,I20>=6),IF(I20>=6,"Evitar",""),IF(I20>2,"Reducir y Transferir","Aceptar activamente o Pasivamente")) -> Evitar | L20: =IF(AND(I20>=2,I20>=3,I20>=6),IF(I20>=6,"La empresa necesita de manera urgente implementar un sistema de gestón de riesgos inmediatamente",""),IF(I20>2,"Se sugiere a la empresa diseñar un control de evaluacion de riesgos y esta sea monitoriada bajo cierto tiempo ","La empresa cuenta con un sistema que control de gestión de riesgo efectivo")) -> La empresa necesita de manera urgente implementar un sistema de gestón de riesgos inmediatamente
B21: ='7'!B20 -> PR11 | C21: ='10'!C30 -> Adaptabilidad a los cambios | D21: Inherente | E21: Existencia de empresas que aplican mejores estrategias de manera que puedan lograr y mantenerse activas e innovadoras frente a otros. | F21: Gerencia | G21: Falta de generación de generación de estrategias que le permiten destacar su producto | H21: Posibilidad de menores ganancias para una empresa, o incluso pérdidas asociadas a la entrada de nuevos competidores en un mercado. | I21: ='10'!F30 -> 2 | J21: =IF(AND(I21>=2,I21>=3,I21>=6),IF(I21>=6,"Riesgo Severo",""),IF(I21>2,"Riesgo Tolerable","Riesgo Aceptable")) -> Riesgo Aceptable | K21: =IF(AND(I21>=2,I21>=3,I21>=6),IF(I21>=6,"Evitar",""),IF(I21>2,"Reducir y Transferir","Aceptar activamente o Pasivamente")) -> Aceptar activamente o Pasivamente | L21: =IF(AND(I21>=2,I21>=3,I21>=6),IF(I21>=6,"La empresa necesita de manera urgente implementar un sistema de gestón de riesgos inmediatamente",""),IF(I21>2,"Se sugiere a la empresa diseñar un control de evaluacion de riesgos y esta sea monitoriada bajo cierto tiempo ","La empresa cuenta con un sistema que control de gestión de riesgo efectivo")) -> La empresa cuenta con un sistema que control de gestión de riesgo efectivo
B22: ='7'!B21 -> PR12 | C22: ='10'!C31 -> Si aplica la empresa | D22: Inherente | E22: Empresas que pueden elaborar y ofrecer un producto o servicio con la capacidad de sustituir los de tu empresa, ya sea por su menor precio o mejores funciones | F22: Gerencia | G22: Si la empresa sube los precios de los productos, los consumidores optarán por los productos que ofrecen los mismos benefcios menores precios. | H22: Limitan el potencial de la empresa, ya que su aparición supone una pérdida de ingresos y de ventas para la empresa. | I22: ='10'!F31 -> #N/A | J22: =IF(AND(I22>=2,I22>=3,I22>=6),IF(I22>=6,"Riesgo Severo",""),IF(I22>2,"Riesgo Tolerable","Riesgo Aceptable")) -> #N/A | K22: =IF(AND(I22>=2,I22>=3,I22>=6),IF(I22>=6,"Evitar",""),IF(I22>2,"Reducir y Transferir","Aceptar activamente o Pasivamente")) -> #N/A | L22: =IF(AND(I22>=2,I22>=3,I22>=6),IF(I22>=6,"La empresa necesita de manera urgente implementar un sistema de gestón de riesgos inmediatamente",""),IF(I22>2,"Se sugiere a la empresa diseñar un control de evaluacion de riesgos y esta sea monitoriada bajo cierto tiempo ","La empresa cuenta con un sistema que control de gestión de riesgo efectivo")) -> #N/A
B23: ='7'!B22 -> PR13 | C23: ='10'!C32 -> Si aplica la empresa | D23: Inherente | E23: Inexistencia de organización en la entidad, retraso en los procesos normales | F23: Gerencia | G23: Cultura organizacional inmadura o inexistente: Cuando una organización opera sin tener una visión, misión y valores claros, establecidos, comunicados e interiorizados. | H23: El impacto de este hecho puede ser catastrófico para la continuidad del negocio. Al no tener claro hacia donde se quiere ir, cómo y mediante qué vehículos, nadie pondrá los medios para que estos objetivos se lleguen a cumplir. | I23: ='10'!F32 -> #N/A | J23: =IF(AND(I23>=2,I23>=3,I23>=6),IF(I23>=6,"Riesgo Severo",""),IF(I23>2,"Riesgo Tolerable","Riesgo Aceptable")) -> #N/A | K23: =IF(AND(I23>=2,I23>=3,I23>=6),IF(I23>=6,"Evitar",""),IF(I23>2,"Reducir y Transferir","Aceptar activamente o Pasivamente")) -> #N/A | L23: =IF(AND(I23>=2,I23>=3,I23>=6),IF(I23>=6,"La empresa necesita de manera urgente implementar un sistema de gestón de riesgos inmediatamente",""),IF(I23>2,"Se sugiere a la empresa diseñar un control de evaluacion de riesgos y esta sea monitoriada bajo cierto tiempo ","La empresa cuenta con un sistema que control de gestión de riesgo efectivo")) -> #N/A
B24: ='7'!B23 -> PR14 | C24: ='10'!C33 -> Si aplica la empresa | D24: Inherente | E24: Entrada, la salida y la venta clandestina de mercancías prohibidas o sometidas a derechos en el que se defrauda a las autoridades locales | F24: Gerencia | G24: Altos precios de los productos en el país y falta de oportunidades laborales | H24: El contrabando genera a la entidad menos comercio formal perjudicando a los ingresos de la misma. | I24: ='10'!F33 -> #N/A | J24: =IF(AND(I24>=2,I24>=3,I24>=6),IF(I24>=6,"Riesgo Severo",""),IF(I24>2,"Riesgo Tolerable","Riesgo Aceptable")) -> #N/A | K24: =IF(AND(I24>=2,I24>=3,I24>=6),IF(I24>=6,"Evitar",""),IF(I24>2,"Reducir y Transferir","Aceptar activamente o Pasivamente")) -> #N/A | L24: =IF(AND(I24>=2,I24>=3,I24>=6),IF(I24>=6,"La empresa necesita de manera urgente implementar un sistema de gestón de riesgos inmediatamente",""),IF(I24>2,"Se sugiere a la empresa diseñar un control de evaluacion de riesgos y esta sea monitoriada bajo cierto tiempo ","La empresa cuenta con un sistema que control de gestión de riesgo efectivo")) -> #N/A
B25: ='7'!B24 -> PR15 | C25: ='10'!C34 -> Análisis de los Estados Financiero | D25: Inherente | E25: Se presentan fluctuaciones, bajando y subiendo, esporádicamente, sus ventas por motivos distintos de la estacionalidad. | F25: Gerencia | G25: Crisis económica nacional por la mala administración de gobierno, inflación. | H25: Reducción en las ventas por la situación ecónomica de los consumidores. | I25: ='10'!F34 -> 4 | J25: =IF(AND(I25>=2,I25>=3,I25>=6),IF(I25>=6,"Riesgo Severo",""),IF(I25>2,"Riesgo Tolerable","Riesgo Aceptable")) -> Riesgo Tolerable | K25: =IF(AND(I25>=2,I25>=3,I25>=6),IF(I25>=6,"Evitar",""),IF(I25>2,"Reducir y Transferir","Aceptar activamente o Pasivamente")) -> Reducir y Transferir | L25: =IF(AND(I25>=2,I25>=3,I25>=6),IF(I25>=6,"La empresa necesita de manera urgente implementar un sistema de gestón de riesgos inmediatamente",""),IF(I25>2,"Se sugiere a la empresa diseñar un control de evaluacion de riesgos y esta sea monitoriada bajo cierto tiempo ","La empresa cuenta con un sistema que control de gestión de riesgo efectivo")) -> Se sugiere a la empresa diseñar un control de evaluacion de riesgos y esta sea monitoriada bajo cierto tiempo

Sheet 10
B7: MATRIZ DE RIESGOS
B9: MAPA DE CALOR
D11: CONSECUENCIA
D12: Bajo | E12: Moderado | F12: Alto
B13: PROBABILIDAD | D13: 1 | E13: 2 | F13: 4
B14: Alta | C14: 3 | D14: =$C14*D$13 -> 3 | E14: =$C14*E$13 -> 6 | F14: =$C14*F$13 -> 12 | H14: NIVEL DE RIESGO | I14: COLOR
B15: Media | C15: 2 | D15: =$C15*D$13 -> 2 | E15: =$C15*E$13 -> 4 | F15: =$C15*F$13 -> 8 | H15: Riesgo Aceptable
B16: Baja | C16: 1 | D16: =$C16*D$13 -> 1 | E16: =$C16*E$13 -> 2 | F16: =$C16*F$13 -> 4 | H16: Riesgo Tolerable
H17: Riesgo Severo
C19: EVENTO | D19: PROBABILIDAD | E19: IMPACTO | F19: NIVEL DE RIESGO
B20: ='7'!B10 -> PR1 | C20: =IF('7'!G10=1,"Si aplica la empresa","Indicadores Financieros") -> Indicadores Financieros | D20: Media | E20: Alto | F20: =INDEX($C$14:$C$16,MATCH(D20,$B$14:$B$16,0))*INDEX($D$13:$F$13,MATCH(E20,$D$12:$F$12,0)) -> 8
B21: ='7'!B11 -> PR2 | C21: =IF('7'!G11=1,"Si aplica la empresa","Parámetros de accidentes") -> Si aplica la empresa | F21: =INDEX($C$14:$C$16,MATCH(D21,$B$14:$B$16,0))*INDEX($D$13:$F$13,MATCH(E21,$D$12:$F$12,0)) -> #N/A
B22: ='7'!B12 -> PR3 | C22: =IF('7'!G12=1,"Si aplica la empresa","Capacitaciones constantes") -> Capacitaciones constantes | D22: Baja | E22: Moderado | F22: =INDEX($C$14:$C$16,MATCH(D22,$B$14:$B$16,0))*INDEX($D$13:$F$13,MATCH(E22,$D$12:$F$12,0)) -> 2
B23: ='7'!B13 -> PR4 | C23: =IF('7'!G13=1,"Si aplica la empresa","Reglamneto interno") -> Reglamneto interno | D23: Media | E23: Alto | F23: =INDEX($C$14:$C$16,MATCH(D23,$B$14:$B$16,0))*INDEX($D$13:$F$13,MATCH(E23,$D$12:$F$12,0)) -> 8
B24: ='7'!B14 -> PR5 | C24: =IF('7'!G14=1,"Si aplica la empresa","Analisis de accidentes") -> Si aplica la empresa | F24: =INDEX($C$14:$C$16,MATCH(D24,$B$14:$B$16,0))*INDEX($D$13:$F$13,MATCH(E24,$D$12:$F$12,0)) -> #N/A
B25: ='7'!B15 -> PR6 | C25: =IF('7'!G15=1,"Si aplica la empresa","Registro de documentación") -> Registro de documentación | D25: Alta | E25: Alto | F25: =INDEX($C$14:$C$16,MATCH(D25,$B$14:$B$16,0))*INDEX($D$13:$F$13,MATCH(E25,$D$12:$F$12,0)) -> 12
B26: ='7'!B16 -> PR7 | C26: =IF('7'!G16=1,"Si aplica la empresa","Verificación de montos") -> Verificación de montos | D26: Media | E26: Bajo | F26: =INDEX($C$14:$C$16,MATCH(D26,$B$14:$B$16,0))*INDEX($D$13:$F$13,MATCH(E26,$D$12:$F$12,0)) -> 2
B27: ='7'!B17 -> PR8 | C27: =IF('7'!G17=1,"Si aplica la empresa","Procesos de gestión de riesgo") -> Si aplica la empresa | F27: =INDEX($C$14:$C$16,MATCH(D27,$B$14:$B$16,0))*INDEX($D$13:$F$13,MATCH(E27,$D$12:$F$12,0)) -> #N/A
B28: ='7'!B18 -> PR9 | C28: =IF('7'!G18=1,"Si aplica la empresa","Procesos de identificcaión") -> Si aplica la empresa | F28: =INDEX($C$14:$C$16,MATCH(D28,$B$14:$B$16,0))*INDEX($D$13:$F$13,MATCH(E28,$D$12:$F$12,0)) -> #N/A
B29: ='7'!B19 -> PR10 | C29: =IF('7'!G19=1,"Si aplica la empresa","Mecanismos de control interno") -> Mecanismos de control interno | D29: Media | E29: Alto | F29: =INDEX($C$14:$C$16,MATCH(D29,$B$14:$B$16,0))*INDEX($D$13:$F$13,MATCH(E29,$D$12:$F$12,0)) -> 8
B30: ='7'!B20 -> PR11 | C30: =IF('7'!G20=1,"Si aplica la empresa","Adaptabilidad a los cambios") -> Adaptabilidad a los cambios | D30: Media | E30: Bajo | F30: =INDEX($C$14:$C$16,MATCH(D30,$B$14:$B$16,0))*INDEX($D$13:$F$13,MATCH(E30,$D$12:$F$12,0)) -> 2
B31: ='7'!B21 -> PR12 | C31: =IF('7'!G21=1,"Si aplica la empresa","Realiza cambios a los planes de gestión") -> Si aplica la empresa | F31: =INDEX($C$14:$C$16,MATCH(D31,$B$14:$B$16,0))*INDEX($D$13:$F$13,MATCH(E31,$D$12:$F$12,0)) -> #N/A
B32: ='7'!B22 -> PR13 | C32: =IF('7'!G22=1,"Si aplica la empresa","Análisis del riesgo y la sostenibilidad") -> Si aplica la empresa | F32: =INDEX($C$14:$C$16,MATCH(D32,$B$14:$B$16,0))*INDEX($D$13:$F$13,MATCH(E32,$D$12:$F$12,0)) -> #N/A
B33: ='7'!B23 -> PR14 | C33: =IF('7'!G23=1,"Si aplica la empresa","Analisis de indicadores ") -> Si aplica la empresa | F33: =INDEX($C$14:$C$16,MATCH(D33,$B$14:$B$16,0))*INDEX($D$13:$F$13,MATCH(E33,$D$12:$F$12,0)) -> #N/A
B34: ='7'!B24 -> PR15 | C34: =IF('7'!G24=1,"Si aplica la empresa","Análisis de los Estados Financiero") -> Análisis de los Estados Financiero | D34: Media | E34: Moderado | F34: =INDEX($C$14:$C$16,MATCH(D34,$B$14:$B$16,0))*INDEX($D$13:$F$13,MATCH(E34,$D$12:$F$12,0)) -> 4

Sheet TABLAS - GRÁFICAS
B2: Estrategia de Liquidez | D2: Ingrese su meta
B3: RELAJADA | C3: =D3 -> 0.2 | D3: 0.2 | H3: RELAJADA | I3: 0.2 | J3: 0.2 | Y3: RELAJADA | Z3: 0.25 | AA3: 0.2 | AE3: RELAJADA | AF3: 0.15 | AI3: RELAJADA | AJ3: 0.25 | AM3: RELAJADA | AN3: 0.08 | AQ3: RELAJADA | AR3: 0.2
B4: RESTRINGIDA | C4: =D4 -> -0.2 | D4: -0.2 | H4: RESTRINGIDA | I4: -0.1 | J4: -0.1 | Y4: RESTRINGIDA | Z4: -0.25 | AA4: -0.1 | AE4: RESTRINGIDA | AF4: 0.1 | AI4: RESTRINGIDA | AJ4: -0.25 | AM4: RESTRINGIDA | AN4: 0.05 | AQ4: RESTRINGIDA | AR4: 0.1
B5: MODERADA | C5: =D5 -> 0.05 | D5: 0.05 | H5: MODERADA | I5: 0.05 | J5: 0.05 | Y5: MODERADA | Z5: -0.1 | AA5: 0.05 | AE5: MODERADA | AF5: 0.05 | AI5: MODERADA | AJ5: -0.1
B9: ROE | H9: ACTIVOS TOTALES/ACTIVOS CORRIENTES | O9: ROA | R9: Rotacion de activos | Y9: ROA | AE9: LIQUIDEZ CORRIENTE | AI9: ENDEUDAMIENTO | AM9: GANANCIAS RETENIDAS | AQ9: GASTOS POR INTERES
U10: ROA
B11: LC | C11: NC | H11: PA | I11: NC | U11: 0 | V11: Deficiente | Y11: PMC | Z11: NC | AE11: LQ | AF11: NC | AI11: E | AJ11: NC | AM11: GR | AN11: NC | AQ11: GI | AR11: NC
B12: X | C12: Y | H12: X | I12: Y | U12: 1 | V12: Deficiente | Y12: X | Z12: Y | AE12: X | AF12: Y | AI12: X | AJ12: Y | AM12: X | AN12: Y | AQ12: X | AR12: Y
B13: 0 | C13: 0 | D13: Deficiente | E13: 0 | F13: Se detectó ROE bajo se recomienda: Subir el precio del producto, negociar con proveedores, reducir sus costos laborales. | G13: . | H13: 0 | I13: 0 | J13: Deficiente | K13: 0 | L13: Se detectó un activo muy bajo se recomienda mejorar el control de ellos | O13: 0 | P13: Se detectó un ROA bajo se recomienda: Reducir la deuda | R13: 0 | S13: Se detectó una rotación de activos baja lo que podría indicar que la compañía tiene mucho capital inutilizado en sus activos | T13: . | U13: 2 | V13: Deficiente | Y13: 0 | Z13: 1 | AA13: Óptimo | AB13: 0 | AC13: La política de cobro de la empresa es eficiente pues hace efectivo la cuenta por cobrar rápidamente. | AD13: . | AE13: 0 | AF13: 0 | AG13: La empresa no cuenta con liquidez suficiente para realizar sus actividades y por ende no pagar sus deudas. | AH13: . | AI13: 0 | AJ13: 0 | AK13: La empresa muestra un buen resultado ya que las deudas representan la menor parte de los activos, y podra mantenerse y cumplir con sus obligaciones. | AL13: . | AM13: 0 | AN13: 0 | AO13: La empresa posee una deficiente capacidad de ganancias retenidas sobre los ingresos. | AP13: . | AQ13: 0 | AR13: 0 | AS13: Existe una deficiente administración de los recursos, por lo que a partir de sus gastos efectuados el negocio no puede cubrir sus costos de producción y contar con un margen de utilidad. | AT13: . | AU13: .
B14: 0.01 | C14: =1/130 -> 0.0076923077 | D14: Deficiente | E14: 0.01 | F14: Se detectó ROE bajo se recomienda: Subir el precio del producto, negociar con proveedores, reducir sus costos laborales. | G14: . | H14: 0.01 | I14: =1/110 -> 0.0090909091 | J14: Deficiente | K14: 0.01 | L14: Se detectó un activo muy bajo se recomienda mejorar el control de ellos | O14: 0.01 | P14: Se detectó un ROA bajo se recomienda: Reducir la deuda | R14: 0.01 | S14: Se detectó una rotación de activos baja lo que podría indicar que la compañía tiene mucho capital inutilizado en sus activos | T14: . | U14: 3 | V14: Deficiente | Y14: 1 | Z14: 1 | AA14: Óptimo | AB14: 1 | AC14: La política de cobro de la empresa es eficiente pues hace efectivo la cuenta por cobrar rápidamente. | AD14: . | AE14: 1 | AF14: =1/60 -> 0.016666667 | AG14: La empresa no cuenta con liquidez suficiente para realizar sus actividades y por ende no pagar sus deudas. | AH14: . | AI14: 1 | AJ14: 0.01 | AK14: La empresa muestra un buen resultado ya que las deudas representan la menor parte de los activos, y podra mantenerse y cumplir con sus obligaciones. | AL14: . | AM14: 0.1 | AN14: 0.01 | AO14: La empresa posee una deficiente capacidad de ganancias retenidas sobre los ingresos. | AP14: . | AQ14: 0.1 | AR14: 0.01 | AS14: Existe una deficiente administración de los recursos, por lo que a partir de sus gastos efectuados el negocio no puede cubrir sus costos de producción y contar con un margen de utilidad. | AT14: . | AU14: .
