Workbook
Name AÑOS: #REF!
Name AÑOS: #REF!
Name AÑOS: #REF!
Name AÑOS: #REF!
Name AÑOS: #REF!
Name Beg_Bal: [1]TABLA!$D$33:$D$392
Name concepto108.casillero: #REF!
Name concepto108.casillero: #REF!
Name concepto108.casillero: #REF!
Name concepto108.casillero: #REF!
Name concepto108.casillero: #REF!
Name concepto109.casillero: #REF!
Name concepto109.casillero: #REF!
Name concepto109.casillero: #REF!
Name concepto109.casillero: #REF!
Name concepto110.casillero: #REF!
Name concepto110.casillero: #REF!
Name concepto110.casillero: #REF!
Name concepto110.casillero: #REF!
Name concepto111.casillero: #REF!
Name concepto111.casillero: #REF!
Name concepto111.casillero: #REF!
Name concepto111.casillero: #REF!
Name concepto116.casillero: #REF!
Name concepto116.casillero: #REF!
Name concepto116.casillero: #REF!
Name concepto116.casillero: #REF!
Name DATOS: #REF!
Name DATOS: #REF!
Name DATOS: #REF!
Name DATOS: #REF!
Name End_Bal: [1]TABLA!$J$33:$J$392
Name ENTRADA: #REF!
Name ENTRADA: #REF!
Name ENTRADA: #REF!
Name ENTRADA: #REF!
Name ENTRADA: #REF!
Name Extra_Pay: [1]TABLA!$F$33:$F$392
Name fgsfgdssgfdg: #REF!
Name fgsfgdssgfdg: #REF!
Name fgsfgdssgfdg: #REF!
Name fgsfgdssgfdg: #REF!
Name fgsfgdssgfdg: #REF!
Name Full_Print: [1]TABLA!$B$17:$J$392
Name gestión: #REF!
Name gestión: #REF!
Name gestión: #REF!
Name gestión: #REF!
Name gestión: #REF!
Name GESTIONN: #REF!
Name GESTIONN: #REF!
Name GESTIONN: #REF!
Name GESTIONN: #REF!
Name Header_Row: ROW([1]TABLA!$32:$32)
Name INDIRECTOS: #REF!
Name INDIRECTOS: #REF!
Name INDIRECTOS: #REF!
Name INDIRECTOS: #REF!
Name INDIRECTOS: #REF!
Name Int: [1]TABLA!$I$33:$I$392

Sheet 1
C11: DEPARTAMENTO DE CIENCIAS ECONÓMICAS, ADMINISTRATIVAS Y DEL COMERCIO
B13: LICENCIATURA EN CONTABILIDAD Y AUDITORÍA
B15: PROPUESTA DE TESIS
B17: MODELO DE ANÁLISIS Y EVALUACIÓN DE LA GESTIÓN DE RIESGO Y SU INCIDENCIA EN LA SOSTENIBILIDAD FINANCIERA DEL SECTOR MANUFACTURERO DE LA PROVINCIA DE COTOPAXI
B19: ELABORADO POR:
B20: CORDOVA CISNEROS SASQUIA CARMELINA
B21: TERÁN MOLINA EDISON ADRIAN
B22: TUTORA: ING. URBINA POVEDA, MYRIAM ALEXANDRA, MSc.

Sheet 2
C8: INSTRUCCIONES | J8: SOSTENIBILIDAD FINANCIERA
C11: MARCO METODOLÓGICO | J11: CUESTIONARIO DE CONTROL INTERNO
C14: ESTADOS FINANCIEROS | J14: EVALUACIÓN DE RIESGO
C17: COMPOSICIÓN FINANCIERA | J17: NIVEL DEL RIESGO
C20: INDICADORES DE VALOR | J20: MAPA DE CALOR
C23: INDICADORES DE CONTINUIDAD | J23: RIESGO INHERENTE
B29: NOTA: Al dar clic en el círculo celeste y la figura ploma se abrirá la pestaña que desee visualizar.

Sheet 3
C8: El presente modelo tiene por objeto analizar y diagnosticar la gestión financiera por su incidencia en la sostenibilidad financiera del sector Manufacturero. El modelo considera dos análisis: 1.- Evaluación y diagnostico de la sostenibilidad financiera a través de indicadores. 2.- Análisis y evaluación del riesgo inherente a través de cuestionario y matriz de riesgo. A continuación se presenta un detalle de las indicaciones por hoja de calculo.
C13: La pestaña 3 comprende un estado financiero donde usted debe ingresar en las celdas correspondientes la información financiera de la empresa a ser analizada al final de un periodo fiscal, se utiliza para el efecto el formulario 101 definido por el SRI. Seguidamente en la pestaña 4 obtendrá un análisis automático de sus activos, pasivos y patrimonio.
C34: En las pestañas 5 y 6 obtendrá información de cada indicador calculado y este resultado será comparado con los niveles referenciales definidos en el marco teórico. Finalmente se obtendrá un diagnostico de la sostenibilidad evaluado a través de pruebas dicotómicas con escalas de color donde el color rojo significa sostenibilidad baja, el amarillo media y el verde alta.
C44: La pestaña 7 contiene un cuestionario, el cual esta conformado por un conjunto de preguntas relacionadas a riesgo inherente. En este apartado usted debe analizar y responder el cuestionario detallando una x en la respuesta que considere oportuna.
C47: La pestaña 8 le dará el resultado de la evaluación de riesgo, considerando la siguiente escala, siendo el rojo riesgo alto, el amarillo moderado y el verde bajo.
C50: De la misma forma en la pestaña 9 podrá observar el nivel de riesgo inherente de forma global con su respectivo color.
C64: En la pestaña 10 se indica un mapa de calor con el detalle de los eventos del riesgo, la probabilidad y el impacto, en este apartado usted deberá seleccionar el impacto en función de las características de la entidad.
C81: Finalmente en la pestaña 11 se evidencia el resumen general de los riesgos, donde se puede observar el tipo de riesgo, a fin de que la entidad pueda analizar causas y efectos y definir una respuesta al riesgo.
C85: La pestaña marco metodológico contiene un detalle de la terminología financiera utilizada en el modelo.

Sheet 4
D11: INDICADOR DE CONTINUIDAD | E11: DESCRIPCIÓN | F11: FÓRMULA
D12: Liquidez Corriente | E12: Este índice relaciona los activos corrientes frente a los pasivos de la misma naturaleza. Cuanto más alto sea el coeficiente, la empresa tendrá mayores posibilidades de efectuar sus pagos de corto plazo.
D13: Endeudamiento | E13: Permite conocer el grado de endeudamiento al corto plazo
D14: INDICADOR DE VALOR | E14: DESCRIPCIÓN | F14: FÓRMULA
D15: Rentabilidad operacional del patrimonio (ROE) | E15: Permite identificar la rentabilidad que le ofrece a los socios o accionistas el capital que han invertido en la empresa, sin tomar en cuenta los gastos financieros ni de impuestos y participación de trabajadores.
D16: Eficiencia | E16: Permiten medir el nivel de ejecución del proceso, se concentran en el Cómo se hicieron las cosas y miden el rendimiento de los recursos utilizados por un proceso. Tienen que ver con la productividad.
D17: Rentabilidad neta del activo (ROA) | E17: Muestra la capacidad del activo para producir utilidades, independientemente de la forma como haya sido financiado, ya sea con deuda o patrimonio.
D18: Rotación de activos | E18: Permite apreciar el grado de liquidez (en veces) de las cuentas y documentos por cobrar, lo cual se refleja en la gestión y buena marcha de la empresa.

Sheet 5
D1: FORMULARIO 101 | J1: DECLARACIÓN DEL IMPUESTO A LA RENTA Y PRESENTACIÓN DE BALANCES FORMULARIO ÚNICO SOCIEDADES Y ESTABLECIMIENTOS PERMANENTES | AC1: SUPERINTENDENCIA DE COMPAÑÍAS, VALORES Y SEGUROS
B2: RESOLUCIÓN N° NAC-DGERCGC15-00000143
A3: OPERACIONES CON PARTES RELACIONADAS LOCALES Y/O DEL EXTERIOR
A4: CON PARTES RELACIONADAS LOCALES | B4: OPERACIONES DE ACTIVO | G4: 003 | H4: + | L4: CON PARTES RELACIONADAS EN PARAÍSOS FISCALES Y REGÍMENES FISCALES PREFERENTES | N4: OPERACIONES DE ACTIVO | R4: 007 | S4: + | W4: CON PARTES RELACIONADAS EN OTROS REGÍMENES DEL EXTERIOR | Y4: OPERACIONES DE ACTIVO | AC4: 011 | AD4: +
B5: OPERACIONES DE PASIVO | G5: 004 | H5: + | N5: OPERACIONES DE PASIVO | R5: 008 | S5: + | Y5: OPERACIONES DE PASIVO | AC5: 012 | AD5: +
B6: OPERACIONES DE INGRESO | G6: 005 | H6: + | N6: OPERACIONES DE INGRESO | R6: 009 | S6: + | Y6: OPERACIONES DE INGRESO | AC6: 013 | AD6: +
B7: OPERACIONES DE EGRESO | G7: 006 | H7: + | N7: OPERACIONES DE EGRESO | R7: 010 | S7: + | Y7: OPERACIONES DE EGRESO | AC7: 014 | AD7: +
A8: TOTAL OPERACIONES CON PARTES RELACIONADAS | AC8: 015 | AD8: =
A9: ¿SUJETO PASIVO EXENTO DE APLICACIÓN DEL RÉGIMEN DE PRECIOS DE TRANSFERENCIA? | AC9: 017 | AD9: =
A11: ESTADO DE SITUACIÓN FINANCIERA | Q11: ESTADO DE RESULTADOS
A12: ACTIVO | Q12: INGRESOS
A13: ACTIVOS CORRIENTES | AC13: TOTAL INGRESOS | AF13: VALOR EXENTO (A efectos de la Conciliación Tributaria)
A14: EFECTIVO Y EQUIVALENTES AL EFECTIVO | N14: 311 | O14: + | P14: 50030.32 | Q14: VENTAS NETAS LOCALES GRAVADAS CON TARIFA 12% DE IVA | AC14: 6011 | AD14: + | AE14: 160682.04 | AF14: 6012
A15: INVERSIONES CORRIENTES | N15: 312 | O15: + | Q15: VENTAS NETAS LOCALES GRAVADAS CON TARIFA 0% DE IVA O EXENTAS DE IVA | AC15: 6021 | AD15: + | AF15: 6022
A16: (-) PROVISIÓN POR DETERIORO DE INVERSIONES CORRIENTES | N16: 313 | O16: (-) | Q16: EXPORTACIONES NETAS | AC16: 6031 | AD16: + | AF16: 6032
A17: CUENTAS Y DOCUMENTOS POR COBRAR CLIENTES CORRIENTES | C17: RELACIONADOS | F17: LOCALES | N17: 314 | O17: + | P17: 11914.83 | Q17: INGRESOS OBTENIDOS BAJO LA MODALIDAD DE COMISIONES O SIMILARES | AC17: 6041 | AD17: + | AF17: 6042
F18: DEL EXTERIOR | N18: 315 | O18: + | Q18: INGRESOS POR AGROFORESTERÍA Y SILVICULTURA DE ESPECIES FORESTALES | AC18: 6051 | AD18: + | AF18: 6052
C19: NO RELACIONADOS | F19: LOCALES | N19: 316 | O19: + | Q19: RENDIMIENTOS FINANCIEROS | AC19: 6061 | AD19: + | AF19: 6062
F20: DEL EXTERIOR | N20: 317 | O20: + | Q20: UTILIDAD EN VENTA DE PROPIEDADES, PLANTA Y EQUIPO | AC20: 6071 | AD20: + | AF20: 6072
A21: OTRAS CUENTAS Y DOCUMENTOS POR COBRAR CORRIENTES | C21: RELACIONADOS | F21: LOCALES | N21: 318 | O21: + | Q21: DIVIDENDOS | AC21: 6081 | AD21: + | AF21: 6082
F22: DEL EXTERIOR | N22: 319 | O22: + | Q22: RENTAS EXENTAS PROVENIENTES DE DONACIONES Y APORTACIONES | U22: DE RECURSOS PÚBLICOS | AC22: 6091 | AD22: + | AF22: 6092
C23: NO RELACIONADOS | F23: LOCALES | N23: 320 | O23: + | U23: DE OTRAS LOCALES | AC23: 6101 | AD23: + | AF23: 6102
F24: DEL EXTERIOR | N24: 321 | O24: + | U24: DEL EXTERIOR | AC24: 6111 | AD24: + | AF24: 6112
A25: (-) PROVISIÓN CUENTAS INCOBRABLES Y DETERIORO | N25: 322 | O25: (-) | Q25: OTROS INGRESOS PROVENIENTES DEL EXTERIOR | AC25: 6121 | AD25: + | AF25: 6122
A26: CRÉDITO TRIBUTARIO A FAVOR DEL SUJETO PASIVO (ISD) | N26: 323 | O26: + | Q26: OTRAS RENTAS | AC26: 6131 | AD26: + | AF26: 6132
A27: CRÉDITO TRIBUTARIO A FAVOR DEL SUJETO PASIVO (IVA) | N27: 324 | O27: + | P27: 245.6 | Q27: TOTAL INGRESOS | Z27: SUMAR DEL 6011 AL 6131 | AC27: 6999 | AD27: = | AE27: =SUM(AE14:AE26) -> 160682.04 | AF27: En la columna "Valor exento" registre la porción del monto declarado en la columna "total ingresos" considerada como exenta de Impuesto a la Renta.
A28: CRÉDITO TRIBUTARIO A FAVOR DEL SUJETO PASIVO (RENTA) | N28: 325 | O28: + | P28: 7647.11 | Q28: VENTAS NETAS DE PROPIEDADES, PLANTA Y EQUIPO (INFORMATIVO) | AC28: 6001
A29: INVENTARIO DE MATERIA PRIMA | N29: 326 | O29: + | Q29: INGRESOS POR REEMBOLSO COMO INTERMEDIARIO (INFORMATIVO) | AC29: 6002
A30: INVENTARIO DE PRODUCTOS EN PROCESO | N30: 327 | O30: + | Q30: COSTOS Y GASTOS
A31: INVENTARIO DE SUMINISTROS Y MATERIALES | N31: 328 | O31: +
A32: INVENTARIO DE PROD. TERM. Y MERCAD. EN ALMACÉN | N32: 329 | O32: + | Z32: COSTO | AC32: GASTO | AF32: VALOR NO DEDUCIBLE (A efectos de la Conciliación Tributaria)
A33: MERCADERÍAS EN TRÁNSITO | N33: 330 | O33: + | Q33: INVENTARIO INICIAL DE BIENES NO PRODUCIDOS POR EL SUJETO PASIVO | Z33: 7010 | AA33: +
A34: OBRAS EN CURSO BAJO CONTRATO DE CONSTRUCCIÓN (NIC 11) | N34: 331 | O34: + | Q34: COMPRAS NETAS LOCALES DE BIENES NO PRODUCIDOS POR EL SUJETO PASIVO | Z34: 7011 | AA34: + | AF34: 7012
A35: INVENTARIO DE OBRAS EN CONSTRUCCIÓN (NIC 2) | N35: 332 | O35: + | Q35: COMPRAS NETAS LOCALES PRODUCTO DE LA ACTIVIDAD DE COMISIONISTA | Z35: 7021 | AA35: + | AF35: 7023
A36: INVENTARIO DE OBRAS TERMINADAS (NIC 2) | N36: 333 | O36: + | Q36: IMPORTACIONES DE BIENES NO PRODUCIDOS POR EL SUJETO PASIVO | Z36: 7031 | AA36: + | AC36: 7032 | AD36: + | AF36: 7033
A37: INVENTARIO DE MATERIALES O BIENES PARA LA CONSTRUCCIÓN (NIC 2) | N37: 334 | O37: + | Q37: (-) INVENTARIO FINAL DE BIENES NO PRODUCIDOS POR EL SUJETO PASIVO | Z37: 7041 | AA37: (-)
A38: INVENTARIO REPUESTOS, HERRAMIENTAS Y ACCESORIOS | N38: 335 | O38: + | Q38: INVENTARIO INICIAL DE MATERIA PRIMA | Z38: 7051 | AA38: +
A39: (-) PROVISIÓN DE INVENTARIOS POR VALOR NETO DE REALIZACIÓN Y OTRAS PÉRDIDAS EN INVENTARIO | N39: 336 | O39: (-) | Q39: COMPRAS NETAS LOCALES DE MATERIA PRIMA | Z39: 7061 | AA39: + | AF39: 7063
A40: ACTIVOS PAGADOS POR ANTICIPADO | N40: 337 | O40: + | Q40: IMPORTACIONES DE MATERIA PRIMA | Z40: 7071 | AA40: + | AF40: 7073
A41: (-) PROVISIÓN POR DETERIORO DEL VALOR DEL ACTIVO CORRIENTE | N41: 338 | O41: (-) | Q41: (-) INVENTARIO FINAL DE MATERIA PRIMA | Z41: 7081 | AA41: (-)
...

Sheet 6
D9: ESTADO DE SITUACIÓN FINANCIERA
D10: CUENTA | E10: VALOR | F10: ANÁLISIS VERTICAL
D11: ACTIVO
D12: Efectivo y equivalentes al efectivo | E12: ='5'!P14 -> 50030.32 | F12: =(E12*$F$21)/$E$21 -> 0.15942647
D13: Cuentas y docuemntos por cobrar clientes corrientes | E13: ='5'!P17+'5'!P18+'5'!P19+'5'!P20 -> 11914.83 | F13: =(E13*$F$21)/$E$21 -> 0.037967762
D14: Otras cuentas y documentos por cobrar | E14: ='5'!P21+'5'!P22+'5'!P23+'5'!P24 -> 0 | F14: =(E14*$F$21)/$E$21 -> 0
D15: Inventario | E15: ='5'!P29+'5'!P31+'5'!P32+'5'!P35+'5'!P36+'5'!P37+'5'!P38+'5'!P33+'5'!P34-'5'!P39 -> 0 | F15: =(E15*$F$21)/$E$21 -> 0
D16: Otros activos corrientes | E16: =SUM(E17)-E12-E14-E15-E13 -> 234015.66 | F16: =(E16*$F$21)/$E$21 -> 0.7457136
D17: Total Activo Corriente | E17: ='5'!P44 -> 295960.81 | F17: =(E17*$F$21)/$E$21 -> 0.94310784
D18: Propiedad,planta y equipo | E18: =SUM('5'!P47:P56) -> 170043.37 | F18: =(E18*$F$21)/$E$21 -> 0.5418597
D19: Otros activos no corrientes | E19: =E20-E18 -> -152189.79 | F19: =(E19*$F$21)/$E$21 -> -0.48496753
D20: Total Activo no Corriente | E20: ='5'!P94 -> 17853.58 | F20: =(E20*$F$21)/$E$21 -> 0.056892165
D21: TOTAL ACTIVO | E21: =E17+E20 -> 313814.39 | F21: 1
D22: PASIVO
D23: Cuentas y documentos por pagar comerciales corrrientes | E23: ='5'!P100+'5'!P101+'5'!P102+'5'!P103 -> 10563.34 | F23: =(E23*$F$38)/$E$38 -> 0.033661108
D24: Otras cuentas y documentos por cobrar corrientes | E24: ='5'!P108+'5'!P109+'5'!P110+'5'!P111 -> 0 | F24: =(E24*$F$38)/$E$38 -> 0
D25: Obligaciones con instituciones financieras | E25: ='5'!P104+'5'!P105+'5'!P106+'5'!P107 -> 0 | F25: =(E25*$F$38)/$E$38 -> 0
D26: Otros pasivos corrientes | E26: =SUM(E27)-E23-E25-E24 -> 66183.31 | F26: =(E26*$F$38)/$E$38 -> 0.21089954
D27: Total Pasivo Corriente | E27: ='5'!P124 -> 76746.65 | F27: =(E27*$F$38)/$E$38 -> 0.24456065
D28: Cuentas y documentos por pagar comerciales no corrientes | E28: ='5'!P134+'5'!P135+'5'!P136+'5'!P137 -> 0 | F28: =(E28*$F$38)/$E$38 -> 0
D29: Otras cuentas y documentos por pagar no corrientes | E29: ='5'!P134+'5'!P135+'5'!P136+'5'!P137 -> 0 | F29: =(E29*$F$38)/$E$38 -> 0
D30: Obligaciones con instituciones financieras no corrientes | E30: ='5'!P130+'5'!P131+'5'!P132+'5'!P133 -> 0 | F30: =(E30*$F$38)/$E$38 -> 0
D31: Otros pasivos corrientes | E31: =SUM(E32)-E28-E30-E29 -> 7935.28 | F31: =(E31*$F$38)/$E$38 -> 0.02528654
D32: Total Pasivo no Corriente | E32: ='5'!P146 -> 7935.28 | F32: =(E32*$F$38)/$E$38 -> 0.02528654
D33: TOTAL PASIVO | E33: =E27+E32 -> 84681.93 | F33: =(E33*$F$38)/$E$38 -> 0.26984719
D34: PATRIMONIO
D35: Capital | E35: ='5'!P151 -> 1600 | F35: =(E35*$F$38)/$E$38 -> 0.0050985552
D36: Otros rubros del patrimonio | E36: ='5'!P153-'5'!P152+'5'!P154+'5'!P155+'5'!P156+'5'!P157+'5'!P158+'5'!P159+'5'!P160+'5'!P161+'5'!P162-'5'!P163+'5'!P164+'5'!P165+'5'!P168+'5'!P167+'5'!P166 -> 227532.46 | F36: =(E36*$F$38)/$E$38 -> 0.72505426
D37: Total Patrimonio | E37: ='5'!P170 -> 229132.46 | F37: =(E37*$F$38)/$E$38 -> 0.73015281
D38: TOTAL PASIVO Y PATRIMONIO | E38: =SUM(E33+E37) -> 313814.39 | F38: 1
D40: ESTADO DE RESULTADOS
D41: CUENTA | E41: VALOR | F41: PORCENTAJE
D42: Utilidad Neta | E42: ='5'!AE106 -> 5959.27 | F42: =E42*$F$49/$E$49 -> 0.018543672
D43: Costos y gastos | E43: ='5'!AE98 -> 154722.77 | F43: =E43*$F$49/$E$49 -> 0.48145633
D44: Ingresos | E44: ='5'!AE27 -> 160682.04 | F44: =E44*$F$49/$E$49 -> 0.5
D45: Ganancias retenidas | E45: ='5'!P151 -> 1600 | F45: =E45*$F$42/$E$42 -> 0.0049787767
D46: Gastos por intereses | E46: ='5'!AE80 -> 2581.79 | F46: =E46*$F$42/$E$42 -> 0.0080338475
F47: =E47*$F$42/$E$42 -> 0
E49: =E44+E43+E42 -> 321364.08 | F49: 1

Sheet 7
W9: =F19 -> 0.026007969
W10: =F24 -> 1.0603241
W11: =F31 -> 0.018989792
W12: =F38 -> 0.51202891
D14: Mediante los cálculos de indicadores de valor diferencial comparar la capacidad que tiene la empresa en comparación al sector
D18: Indicador | F18: Resultado | G18: Interpretación | L18: Gráfico
D19: ROE | E19: EMPRESA | F19: ='6'!E42/'6'!E37 -> 0.026007969 | G19: =VLOOKUP(F19,'TABLAS - GRÁFICAS'!E13:F513,2,TRUE) -> Se detectó ROE bajo se recomienda: Subir el precio del producto, negociar con proveedores, reducir sus costos laborales.
E21: SECTOR | F21: 0.24
E23: ÓPTIMO | F23: 0.232
D24: Activos totales/ Activos corrientes | E24: EMPRESA | F24: ='6'!E21/'6'!E17 -> 1.0603241 | G24: =VLOOKUP(F24,'TABLAS - GRÁFICAS'!K13:L513,2,TRUE) -> Se detectó un activo muy bajo se recomienda mejorar el control de ellos
E27: SECTOR | F27: 1.72 | G27: =VLOOKUP(F27,'TABLAS - GRÁFICAS'!K13:L513,2,TRUE) -> Se encuentra dentro de la zona óptima aunque se debe poner énfasis en mejorar su ROE
E30: ÓPTIMO | F30: 1.72
D31: ROA | E31: EMPRESA | F31: ='6'!E42/'6'!E21 -> 0.018989792 | G31: =VLOOKUP(F31,'TABLAS - GRÁFICAS'!O13:P519,2,TRUE) -> Se detectó un ROA bajo se recomienda: Reducir la deuda
E34: SECTOR | F34: 0.08 | G34: =VLOOKUP(F34,'TABLAS - GRÁFICAS'!O13:P513,2,TRUE) -> ROA en estado optimo, mejorar el manejo de la deuda
E37: ÓPTIMO | F37: 0.08
D38: Rotación de activos | E38: EMPRESA | F38: ='6'!E44/'6'!E21 -> 0.51202891 | G38: =VLOOKUP(F38,'TABLAS - GRÁFICAS'!R13:S513,2,TRUE) -> Se detectó una rotación de activos baja lo que podría indicar que la compañía tiene mucho capital inutilizado en sus activos
E41: SECTOR | F41: 1.56 | G41: =VLOOKUP(F41,'TABLAS - GRÁFICAS'!R13:S513,2,TRUE) -> Se detectó una rotación de activos alta en consecuente la empresa tendrá una productividad mayor. Muy bien
E46: ÓPTIMO | F46: 1

Sheet 8
W6: =F19 -> 3.8563352
W7: =F28 -> 0.26984719
W8: =F37 -> 0.26848926
W9: =F46 -> 0.43323931
D14: Es un conjunto de datos que nos ayudan a medir objetivamente, en un ámbito espacio temporal, la evolución de acciones asumidas por el Estado para el cumplimiento de un determinado compromiso adquirido.
D18: Indicador | F18: Resultado | G18: Interpretación | L18: Gráfico
D19: Liquidez Corriente | E19: EMPRESA | F19: =+'6'!E17/'6'!E27 -> 3.8563352 | G19: =VLOOKUP(F19,'TABLAS - GRÁFICAS'!AF13:AG193,2,TRUE) -> La empresa cuenta exelente liquidez para asumir el pago de sus deudas
E22: SECTOR | F22: 2.21 | G22: =VLOOKUP(F22,'TABLAS - GRÁFICAS'!AF13:AG193,2,TRUE) -> La empresa cuenta con buena liquidez y asi asumir oportunamente el pago de sus deudas.
E27: ÓPTIMO | F27: 1.1
D28: Endeudamiento | E28: EMPRESA | F28: =+'6'!E33/'6'!E21 -> 0.26984719 | G28: =VLOOKUP(F28,'TABLAS - GRÁFICAS'!AJ13:AK513,2,TRUE) -> La empresa muestra un buen resultado ya que las deudas representan la menor parte de los activos, y podra mantenerse y cumplir con sus obligaciones.
E31: SECTOR | F31: 0.49 | G31: =VLOOKUP(F31,'TABLAS - GRÁFICAS'!AJ13:AK513,2,TRUE) -> La empresa muestra un buen resultado ya que las deudas representan la menor parte de los activos, y podra mantenerse y cumplir con sus obligaciones.
E36: ÓPTIMO | F36: 0.5
D37: Ganancias Retenidas/Ingresos | E37: EMPRESA | F37: ='6'!E45/'6'!E42 -> 0.26848926 | G37: =VLOOKUP(F37,'TABLAS - GRÁFICAS'!AN13:AO513,2,TRUE) -> La empresa posee una exelente capacidad de ganancias retenidas sobre los ingresos.
E40: SECTOR | F40: 0.08 | G40: =VLOOKUP(F40,'TABLAS - GRÁFICAS'!AN13:AO513,2,TRUE) -> La empresa posee una optima capacidad de ganancias retenidas sobre los ingresos.
E45: ÓPTIMO | F45: 0.16
D46: Gasto por Interés/Utilidad antes de impuesto | E46: EMPRESA | F46: =+'6'!E46/'6'!E42 -> 0.43323931 | G46: =VLOOKUP(F46,'TABLAS - GRÁFICAS'!AR13:AS513,2,TRUE) -> Existe una optima administración de los recursos, por lo que a partir de sus gastos efectuados el negocio puede cubrir sus costos y gastos y contar con un margen de utilidad.
E49: SECTOR | F49: 0.02 | G49: =VLOOKUP(F49,'TABLAS - GRÁFICAS'!AR13:AS513,2,TRUE) -> Existe una optima administración de los recursos, por lo que a partir de sus gastos efectuados el negocio puede cubrir sus costos y gastos y contar con un margen de utilidad.
E54: ÓPTIMO | F54: 0.06

Sheet 9
A6: RESUMEN DE LA SOSTENIBILIDAD FINANCIERA
B8: Tabla de equivalencia
B9: Regla de decisión
B10: Indicador de referencia
B11: N | C11: Indicador | E11: Referencia | F11: Indicador > Referencia | G11: Indicador < Referencia | K11: Valor Total | L11: Equivalente
B12: X1 | C12: ROE | E12: 0.232 | F12: 1 | G12: 0 | K12: 1 a 3 | L12: Baja
B13: X2 | C13: EFICIENCIA | E13: 1.72 | F13: 1 | G13: 0 | K13: 4 a 6 | L13: Media
B14: X3 | C14: ROA | E14: 0.08 | F14: 1 | G14: 0 | K14: 7 y 8 | L14: Alta
B15: X4 | C15: ROTACIÓN DE ACTIVOS | E15: 1 | F15: 1 | G15: 0
B16: X5 | C16: LIQUIDEZ CORRIENTE | E16: 1.1 | F16: 1 | G16: 0
B17: X6 | C17: ENDEUDAMIENTO | E17: 0.5 | F17: 0 | G17: 1
B18: X7 | C18: GANANCIAS RETENIDAS_ INGRESOS | E18: 0.16 | F18: 1 | G18: 0
B19: X8 | C19: GASTOS POR INTERESES_EBIT | E19: 0.06 | F19: 0 | G19: 1
B20: TOTAL | F20: 8
A22: N | B22: Empresas | C22: Indicadores de Valor | G22: Indicadores de Continuidad | K22: TOTAL | L22: EQUIVALENTE
C23: X1 | D23: X2 | E23: X3 | F23: X4 | G23: X5 | H23: X6 | I23: X7 | J23: X8
C24: 0.232 | D24: 1.4771248 | E24: 0.35965592 | F24: 2 | G24: 1.1 | H24: 0.5 | I24: 0.17484745 | J24: 0.42790912
A25: 1 | B25: EMPRESA 1 | C25: =IF('7'!W9>='9'!$E$12,1,0) -> 0 | D25: =IF('7'!W10>=$E$13,1,0) -> 0 | E25: =IF('7'!W11>=$E$14,1,0) -> 0 | F25: =IF('7'!W12>=$E$15,1,0) -> 0 | G25: =IF('8'!W6>=$E$16,1,0) -> 1 | H25: =IF('8'!W7>=$E$17,0,1) -> 1 | I25: =IF('8'!W8>=$E$18,1,0) -> 1 | J25: =IF('8'!W9>=$E$19,1,0) -> 1 | K25: =SUM(C25:J25) -> 4 | L25: =IF(K25<=3,"Baja Sostenibilidad",IF(K25<=6,"Media Sostenibilidad","Alta Sostenibilidad")) -> Media Sostenibilidad | M25: =K25 -> 4
A26: 2 | B26: La Finca Cia. Ltda. | C26: =IF([2]datos!D7>='9'!$E$12,1,0) -> 0 | D26: =IF([2]datos!E7>=$E$13,1,0) -> 0 | E26: =IF([2]datos!F7>=$E$14,1,0) -> 1 | F26: =IF([2]datos!G7>=$E$15,1,0) -> 1 | G26: 0 | H26: =IF([2]datos!I7>=$E$17,0,1) -> 0 | I26: =IF([2]datos!J7>=$E$18,1,0) -> 1 | J26: =IF([2]datos!K7>=$E$19,1,0) -> 1 | K26: =SUM(C26:J26) -> 4 | L26: =IF(K26<=3,"Baja Sostenibilidad",IF(K26<=6,"Media Sostenibilidad","Alta Sostenibilidad")) -> Media Sostenibilidad | M26: =K26 -> 4
A27: 3 | B27: Molinos Oro blanco Cia. Ltda. | C27: =IF([2]datos!D8>='9'!$E$12,1,0) -> 0 | D27: =IF([2]datos!E8>=$E$13,1,0) -> 0 | E27: =IF([2]datos!F8>=$E$14,1,0) -> 0 | F27: =IF([2]datos!G8>=$E$15,1,0) -> 1 | G27: =IF([2]datos!H8>=$E$16,1,0) -> 1 | H27: 0 | I27: =IF([2]datos!J8>=$E$18,1,0) -> 1 | J27: =IF([2]datos!K8>=$E$19,1,0) -> 1 | K27: =SUM(C27:J27) -> 4 | L27: =IF(K27<=3,"Baja Sostenibilidad",IF(K27<=6,"Media Sostenibilidad","Alta Sostenibilidad")) -> Media Sostenibilidad | M27: =K27 -> 4
A28: 4 | B28: Editorial La Gaceta S.A. | C28: =IF([2]datos!D9>='9'!$E$12,1,0) -> 0 | D28: =IF([2]datos!E9>=$E$13,1,0) -> 0 | E28: =IF([2]datos!F9>=$E$14,1,0) -> 0 | F28: =IF([2]datos!G9>=$E$15,1,0) -> 1 | G28: =IF([2]datos!H9>=$E$16,1,0) -> 1 | H28: =IF([2]datos!I9>=$E$17,0,1) -> 1 | I28: =IF([2]datos!J9>=$E$18,1,0) -> 1 | J28: =IF([2]datos!K9>=$E$19,1,0) -> 1 | K28: =SUM(C28:J28) -> 5 | L28: =IF(K28<=3,"Baja Sostenibilidad",IF(K28<=6,"Media Sostenibilidad","Alta Sostenibilidad")) -> Media Sostenibilidad | M28: =K28 -> 5
A29: 5 | B29: INDUACERO Industria de Acero del Ecuador Cia. Ltda. | C29: =IF([2]datos!D10>='9'!$E$12,1,0) -> 0 | D29: =IF([2]datos!E10>=$E$13,1,0) -> 0 | E29: =IF([2]datos!F10>=$E$14,1,0) -> 1 | F29: =IF([2]datos!G10>=$E$15,1,0) -> 1 | G29: =IF([2]datos!H10>=$E$16,1,0) -> 0 | H29: =IF([2]datos!I10>=$E$17,0,1) -> 0 | I29: =IF([2]datos!J10>=$E$18,1,0) -> 0 | J29: =IF([2]datos!K10>=$E$19,1,0) -> 1 | K29: =SUM(C29:J29) -> 3 | L29: =IF(K29<=3,"Baja Sostenibilidad",IF(K29<=6,"Media Sostenibilidad","Alta Sostenibilidad")) -> Baja Sostenibilidad | M29: =K29 -> 3
A30: 6 | B30: Importadora Adrian Imceal Cia. Ltda. | C30: =IF([2]datos!D11>='9'!$E$12,1,0) -> 0 | D30: =IF([2]datos!E11>=$E$13,1,0) -> 0 | E30: =IF([2]datos!F11>=$E$14,1,0) -> 0 | F30: =IF([2]datos!G11>=$E$15,1,0) -> 1 | G30: =IF([2]datos!H11>=$E$16,1,0) -> 1 | H30: =IF([2]datos!I11>=$E$17,0,1) -> 0 | I30: =IF([2]datos!J11>=$E$18,1,0) -> 1 | J30: =IF([2]datos!K11>=$E$19,1,0) -> 0 | K30: =SUM(C30:J30) -> 3 | L30: =IF(K30<=3,"Baja Sostenibilidad",IF(K30<=6,"Media Sostenibilidad","Alta Sostenibilidad")) -> Baja Sostenibilidad | M30: =K30 -> 3
A31: 7 | B31: Dlip Industrial DLIPINDUSTRIAL S.A. | C31: =IF([2]datos!D12>='9'!$E$12,1,0) -> 0 | D31: =IF([2]datos!E12>=$E$13,1,0) -> 0 | E31: =IF([2]datos!F12>=$E$14,1,0) -> 0 | F31: =IF([2]datos!G12>=$E$15,1,0) -> 1 | G31: =IF([2]datos!H12>=$E$16,1,0) -> 1 | H31: =IF([2]datos!I12>=$E$17,0,1) -> 0 | I31: =IF([2]datos!J12>=$E$18,1,0) -> 0 | J31: =IF([2]datos!K12>=$E$19,1,0) -> 1 | K31: =SUM(C31:J31) -> 3 | L31: =IF(K31<=3,"Baja Sostenibilidad",IF(K31<=6,"Media Sostenibilidad","Alta Sostenibilidad")) -> Baja Sostenibilidad | M31: =K31 -> 3
A32: 8 | B32: Productora y Comercializadora de los Helados de Salcedo Corpicecream S.A. | C32: =IF([2]datos!D13>='9'!$E$12,1,0) -> 0 | D32: =IF([2]datos!E13>=$E$13,1,0) -> 0 | E32: =IF([2]datos!F13>=$E$14,1,0) -> 1 | F32: =IF([2]datos!G13>=$E$15,1,0) -> 1 | G32: =IF([2]datos!H13>=$E$16,1,0) -> 1 | H32: =IF([2]datos!I13>=$E$17,0,1) -> 1 | I32: =IF([2]datos!J13>=$E$18,1,0) -> 1 | J32: =IF([2]datos!K13>=$E$19,1,0) -> 0 | K32: =SUM(C32:J32) -> 5 | L32: =IF(K32<=3,"Baja Sostenibilidad",IF(K32<=6,"Media Sostenibilidad","Alta Sostenibilidad")) -> Media Sostenibilidad | M32: =K32 -> 5
A33: 9 | B33: Paneles y Construcciones PANECONS S.A. | C33: =IF([2]datos!D14>='9'!$E$12,1,0) -> 0 | D33: =IF([2]datos!E14>=$E$13,1,0) -> 0 | E33: =IF([2]datos!F14>=$E$14,1,0) -> 1 | F33: =IF([2]datos!G14>=$E$15,1,0) -> 0 | G33: =IF([2]datos!H14>=$E$16,1,0) -> 1 | H33: =IF([2]datos!I14>=$E$17,0,1) -> 0 | I33: =IF([2]datos!J14>=$E$18,1,0) -> 1 | J33: =IF([2]datos!K14>=$E$19,1,0) -> 0 | K33: =SUM(C33:J33) -> 3 | L33: =IF(K33<=3,"Baja Sostenibilidad",IF(K33<=6,"Media Sostenibilidad","Alta Sostenibilidad")) -> Baja Sostenibilidad | M33: =K33 -> 3
A34: 10 | B34: Compañía Procesadora de Alimentos Balanceados Benites Probalben Cia. Ltda. | C34: =IF([2]datos!D15>='9'!$E$12,1,0) -> 0 | D34: =IF([2]datos!E15>=$E$13,1,0) -> 0 | E34: =IF([2]datos!F15>=$E$14,1,0) -> 1 | F34: =IF([2]datos!G15>=$E$15,1,0) -> 1 | G34: =IF([2]datos!H15>=$E$16,1,0) -> 1 | H34: =IF([2]datos!I15>=$E$17,0,1) -> 1 | I34: =IF([2]datos!J15>=$E$18,1,0) -> 0 | J34: =IF([2]datos!K15>=$E$19,1,0) -> 0 | K34: =SUM(C34:J34) -> 4 | L34: =IF(K34<=3,"Baja Sostenibilidad",IF(K34<=6,"Media Sostenibilidad","Alta Sostenibilidad")) -> Media Sostenibilidad | M34: =K34 -> 4
A35: 11 | B35: Construcciones Ulloa Cia. Ltda. | C35: =IF([2]datos!D16>='9'!$E$12,1,0) -> 1 | D35: =IF([2]datos!E16>=$E$13,1,0) -> 1 | E35: =IF([2]datos!F16>=$E$14,1,0) -> 1 | F35: =IF([2]datos!G16>=$E$15,1,0) -> 1 | G35: =IF([2]datos!H16>=$E$16,1,0) -> 0 | H35: =IF([2]datos!I16>=$E$17,0,1) -> 0 | I35: =IF([2]datos!J16>=$E$18,1,0) -> 0 | J35: =IF([2]datos!K16>=$E$19,1,0) -> 0 | K35: =SUM(C35:J35) -> 4 | L35: =IF(K35<=3,"Baja Sostenibilidad",IF(K35<=6,"Media Sostenibilidad","Alta Sostenibilidad")) -> Media Sostenibilidad | M35: =K35 -> 4
A36: 12 | B36: Alimentos Saludables Ecuador ECUALIMFOOD S.A. | C36: =IF([2]datos!D17>='9'!$E$12,1,0) -> 0 | D36: =IF([2]datos!E17>=$E$13,1,0) -> 0 | E36: =IF([2]datos!F17>=$E$14,1,0) -> 1 | F36: =IF([2]datos!G17>=$E$15,1,0) -> 1 | G36: =IF([2]datos!H17>=$E$16,1,0) -> 1 | H36: =IF([2]datos!I17>=$E$17,0,1) -> 0 | I36: =IF([2]datos!J17>=$E$18,1,0) -> 0 | J36: =IF([2]datos!K17>=$E$19,1,0) -> 0 | K36: =SUM(C36:J36) -> 3 | L36: =IF(K36<=3,"Baja Sostenibilidad",IF(K36<=6,"Media Sostenibilidad","Alta Sostenibilidad")) -> Baja Sostenibilidad | M36: =K36 -> 3
A37: 13 | B37: Procesadora de Neumáticos Cotopaxi PRONEUMACOSA S.A. | C37: =IF([2]datos!D18>='9'!$E$12,1,0) -> 0 | D37: =IF([2]datos!E18>=$E$13,1,0) -> 0 | E37: =IF([2]datos!F18>=$E$14,1,0) -> 0 | F37: =IF([2]datos!G18>=$E$15,1,0) -> 1 | G37: =IF([2]datos!H18>=$E$16,1,0) -> 1 | H37: =IF([2]datos!I18>=$E$17,0,1) -> 0 | I37: =IF([2]datos!J18>=$E$18,1,0) -> 0 | J37: =IF([2]datos!K18>=$E$19,1,0) -> 0 | K37: =SUM(C37:J37) -> 2 | L37: =IF(K37<=3,"Baja Sostenibilidad",IF(K37<=6,"Media Sostenibilidad","Alta Sostenibilidad")) -> Baja Sostenibilidad | M37: =K37 -> 2
A38: 14 | B38: Andes Kinkuna S.A. | C38: =IF([2]datos!D19>='9'!$E$12,1,0) -> 0 | D38: =IF([2]datos!E19>=$E$13,1,0) -> 1 | E38: =IF([2]datos!F19>=$E$14,1,0) -> 1 | F38: =IF([2]datos!G19>=$E$15,1,0) -> 0 | G38: =IF([2]datos!H19>=$E$16,1,0) -> 1 | H38: =IF([2]datos!I19>=$E$17,0,1) -> 0 | I38: =IF([2]datos!J19>=$E$18,1,0) -> 0 | J38: =IF([2]datos!K19>=$E$19,1,0) -> 1 | K38: =SUM(C38:J38) -> 4 | L38: =IF(K38<=3,"Baja Sostenibilidad",IF(K38<=6,"Media Sostenibilidad","Alta Sostenibilidad")) -> Media Sostenibilidad | M38: =K38 -> 4
A39: 15 | B39: Fabricación, Comercialización de Postes de Hormigón Armado O&M DISPOSTES Cia. Ltda. | C39: =IF([2]datos!D20>='9'!$E$12,1,0) -> 0 | D39: =IF([2]datos!E20>=$E$13,1,0) -> 0 | E39: =IF([2]datos!F20>=$E$14,1,0) -> 0 | F39: =IF([2]datos!G20>=$E$15,1,0) -> 0 | G39: =IF([2]datos!H20>=$E$16,1,0) -> 1 | H39: =IF([2]datos!I20>=$E$17,0,1) -> 0 | I39: =IF([2]datos!J20>=$E$18,1,0) -> 1 | J39: =IF([2]datos!K20>=$E$19,1,0) -> 0 | K39: =SUM(C39:J39) -> 2 | L39: =IF(K39<=3,"Baja Sostenibilidad",IF(K39<=6,"Media Sostenibilidad","Alta Sostenibilidad")) -> Baja Sostenibilidad | M39: =K39 -> 2
... A41: 17 | B41: FYM INPLASS Cia. Ltda. | C41: =IF([2]datos!D22>='9'!$E$12,1,0) -> 0 | D41: =IF([2]datos!E22>=$E$13,1,0) -> 0 | E41: =IF([2]datos!F22>=$E$14,1,0) -> 0 | F41: =IF([2]datos!G22>=$E$15,1,0) -> 0 | G41: =IF([2]datos!H22>=$E$16,1,0) -> 1 | H41: =IF([2]datos!I22>=$E$17,0,1) -> 0 | I41: =IF([2]datos!J22>=$E$18,1,0) -> 1 | J41: =IF([2]datos!K22>=$E$19,1,0) -> 0 | K41: =SUM(C41:J41) -> 2 | L41: =IF(K41<=3,"Baja Sostenibilidad",IF(K41<=6,"Media Sostenibilidad","Alta Sostenibilidad")) -> Baja Sostenibilidad | M41: =K41 -> 2
C42: =SUM(C25:C41) -> 1 | D42: =SUM(D25:D41) -> 3 | E42: =SUM(E25:E41) -> 8 | F42: =SUM(F25:F41) -> 11 | G42: =SUM(G25:G41) -> 14 | H42: =SUM(H25:H41) -> 5 | I42: =SUM(I25:I41) -> 10 | J42: =SUM(J25:J41) -> 7

Sheet 10
B12: SISTEMA GESTIÓN DE RIESGO INHERENTE PARA LAS PYMES MANUFACTURERAS DE LA PROVINCIA DE COTOPAXI
B14: CUESTIONARIO DE RECONOCIMIENTO PARA RIESGOS INHERENTES
B16: Instrucción: Marque con una X en la casilla que crea pertinente
B18: CALIFICACIÓN DEL NIVEL DE RIESGO Y CONFIANZA
B19: N° | C19: POSIBLES RIESGOS INHERENTES EN EMPRESAS COMERCIALES | D19: PT | E19: SI | F19: NO | G19: CT
D20: =SUM(D21:D35) -> 15
B21: PR1 | C21: ¿En la entidad se lleva un control constante de la cuenta caja? | D21: 1 | F21: x | G21: =IF(E21="x",1,0) -> 0
B22: PR2 | C22: ¿La entidad tienen definidos los saldos mínimos de liquidez? | D22: 1 | E22: x | G22: =IF(E22="x",1,0) -> 1
B23: PR3 | C23: ¿Se tiene mecanismos y políticas para la recuperación de cuentas por cobrar? | D23: 1 | F23: x | G23: =IF(E23="x",1,0) -> 0
B24: PR4 | C24: ¿La entidad realiza evaluaciones periódicas de las rotaciones de inventarios? | D24: 1 | F24: x | G24: =IF(E24="x",1,0) -> 0
B25: PR5 | C25: ¿Se tiene documentos o registros para el control de entradas y salidas inventario? | D25: 1 | F25: x | G25: =IF(E25="x",1,0) -> 0
B26: PR6 | C26: ¿Se dispone un software para el control de inventarios? | D26: 1 | F26: x | G26: =IF(E26="x",1,0) -> 0
B27: PR7 | C27: ¿Se tiene un control determinado sobre los productos terminados? | D27: 1 | F27: x | G27: =IF(E27="x",1,0) -> 0
B28: PR8 | C28: ¿La entidad tiene definido una estrategia para puntos de pedido y reorden? | D28: 1 | F28: x | G28: =IF(E28="x",1,0) -> 0
B29: PR9 | C29: ¿Existe un tratamiento contable para los inventarios obsoletos? | D29: 1 | E29: x | G29: =IF(E29="x",1,0) -> 1
B30: PR10 | C30: ¿La entidad realiza planes de mantenimiento a la maquinaria? | D30: 1 | E30: x | G30: =IF(E30="x",1,0) -> 1
B31: PR11 | C31: ¿La entidad realiza un correcto monitoreo a la maniquinaria para verificar su nivel óptimo de producción? | D31: 1 | F31: x | G31: =IF(E31="x",1,0) -> 0
B32: PR12 | C32: ¿La entidad cuenta con un manual de procesos donde se describen los principales procedimientos de organización? | D32: 1 | E32: x | G32: =IF(E32="x",1,0) -> 1
B33: PR13 | C33: ¿Se realiza evaluaciones sobre los distintos riesgos como: errores humanos, procesos de seguridad y riesgos mecanicos los cuales pueden afectar de manera significativa la operatividad de la empresa? | D33: 1 | E33: x | G33: =IF(E33="x",1,0) -> 1
B34: PR14 | C34: ¿Los controles de riesgos son aplicados tomando en consideración la operatividad de la entidad? | D34: 1 | E34: x | G34: =IF(E34="x",1,0) -> 1
B35: PR15 | C35: ¿Se tiene definido manuales y políticas para la concesión de créditos? | D35: 1 | E35: x | G35: =IF(E35="x",1,0) -> 1
B36: CALIFICACION TOTAL | D36: CT= | G36: =COUNTIF(G21:G35,"1") -> 7
B37: PONDERACION TOTAL | D37: PT= | G37: =SUM(D21:D35) -> 15
B38: NIVEL DE CONFIANZA NC= CT/PT X 100 | D38: NC= | G38: =G36/G37*100% -> 0.46666667
B39: NIVEL DE RIESGO INHERENTE RI= 100% - NC | D39: NR= | G39: =100%-G38 -> 0.53333333

Sheet 11
C7: EVALUACIÓN DE RIESGOS
C9: CP= | D9: CALIFICACIÓN PORCENTUAL
C10: PT= | D10: PONDERACIÓN TOTAL
C11: CT= | D11: CALIFICACIÓN TOTAL
C13: NIVEL DE CONFIANZA
C14: BAJO | D14: MODERADO | E14: ALTO | F14: 0.15
C15: 15% - 50% | D15: 51% - 75% | E15: 76% - 95% | F15: 0.5
C16: 85% - 50% | D16: 49% - 25% | E16: 24% - 5% | F16: 0.75
C17: ALTO | D17: MODERADO | E17: BAJO
C18: NIVEL DE RIESGO (100 - NC)
C20: VALORACIÓN DE RIESGOS INHRENTES DE LA EMPRESA
D21: CP= (CT * 100)/PT | E21: =('10'!G36*100)/'10'!G37 -> 46.666667
C23: DETERMINACIÓN NIVEL DE RIESGOS
C24: NIVEL DE CONFIANZA | E24: FRECUENCIA
C25: NIVEL DE RIESGO | E25: BAJO | F25: MODERADO | G25: ALTO
C26: NC | D26: ='10'!G38 -> 0.46666667 | E26: =IF(D26<$F$15,"BAJO","-") -> BAJO | F26: =IF(AND(D26<=F16,D26>=F15),"MODERADO","-") -> - | G26: =IF(D26>$F$16,"ALTO","-") -> -
C27: NR | D27: ='10'!G39 -> 0.53333333 | E27: =IF(D27<25%,"BAJO","-") -> - | F27: =IF(AND(D27<=49%,D27>24%),"MODERADO","-") -> - | G27: =IF(D27>50%,"ALTO","-") -> ALTO

Sheet 12
B6: NIVEL DE RIESGO INHERENTE GLOBAL
B7: =C9*100 -> 46.666667 | C7: 2 | D7: =E7+E8+E9+E10+E11-B7-C7 -> 151.33333 | I7: RIESGO | K7: CONFIANZA
B8: =C10*100 -> 53.333333 | C8: 2 | D8: =E8+E9+E10+E11+E7-B8-C8 -> 144.66667 | E8: 50 | I8: BAJO | J8: 25 | K8: BAJO
B9: NIVEL DE RIESGO | C9: ='11'!D26 -> 0.46666667 | D9: =100%-C9 -> 0.53333333 | E9: 25 | I9: MODERADO | J9: 25 | K9: MODERADO
B10: NIVEL DE RIESGO | C10: ='11'!D27 -> 0.53333333 | D10: =100%-C10 -> 0.46666667 | E10: 25 | I10: ALTO | J10: 50 | K10: ALTO
E11: 100 | J11: 100

Sheet 13
B6: MATRIZ DE RIESGOS
B8: MAPA DE CALOR
D10: CONSECUENCIA
D11: Bajo | E11: Moderado | F11: Alto
B12: PROBABILIDAD | D12: 1 | E12: 2 | F12: 4
B13: Alta | C13: 3 | D13: =$C13*D$12 -> 3 | E13: =$C13*E$12 -> 6 | F13: =$C13*F$12 -> 12 | H13: NIVEL DE RIESGO | I13: COLOR
B14: Media | C14: 2 | D14: =$C14*D$12 -> 2 | E14: =$C14*E$12 -> 4 | F14: =$C14*F$12 -> 8 | H14: Riesgo Aceptable
B15: Baja | C15: 1 | D15: =$C15*D$12 -> 1 | E15: =$C15*E$12 -> 2 | F15: =$C15*F$12 -> 4 | H15: Riesgo Tolerable
H16: Riesgo Severo
C18: EVENTO | D18: APLICA | E18: PROBABILIDAD | F18: IMPACTO | G18: NIVEL DE RIESGO
B19: ='10'!B21 -> PR1 | C19: =REPLACE('10'!C32,1,250,"Control constante de la cuenta caja") -> Control constante de la cuenta caja | D19: =IF('10'!G21=1,"APLICA","NO APLICA") -> NO APLICA | E19: Media | F19: Bajo | G19: =INDEX($C$13:$C$15,MATCH(E19,$B$13:$B$15,0))*INDEX($D$12:$F$12,MATCH(F19,$D$11:$F$11,0)) -> 2
B20: ='10'!B22 -> PR2 | C20: =REPLACE('10'!C24,1,250,"Saldos mínimos de liquidez") -> Saldos mínimos de liquidez | D20: =IF('10'!G22=1,"APLICA","NO APLICA") -> APLICA | E20: Baja | F20: Moderado | G20: =INDEX($C$13:$C$15,MATCH(E20,$B$13:$B$15,0))*INDEX($D$12:$F$12,MATCH(F20,$D$11:$F$11,0)) -> 2
B21: ='10'!B23 -> PR3 | C21: =REPLACE('10'!C25,1,250,"Recuperación de cuentas por cobrar") -> Recuperación de cuentas por cobrar | D21: =IF('10'!G23=1,"APLICA","NO APLICA") -> NO APLICA | E21: Alta | F21: Moderado | G21: =INDEX($C$13:$C$15,MATCH(E21,$B$13:$B$15,0))*INDEX($D$12:$F$12,MATCH(F21,$D$11:$F$11,0)) -> 6
B22: ='10'!B24 -> PR4 | C22: =REPLACE('10'!C33,1,250,"Rotaciones de inventarios") -> Rotaciones de inventarios | D22: =IF('10'!G24=1,"APLICA","NO APLICA") -> NO APLICA | E22: Media
B23: ='10'!B25 -> PR5 | C23: =REPLACE('10'!C31,1,250,"Control de entradas y salidas inventario") -> Control de entradas y salidas inventario | D23: =IF('10'!G25=1,"APLICA","NO APLICA") -> NO APLICA
B24: ='10'!B26 -> PR6 | C24: =REPLACE('10'!C26,1,250,"Software para el control de inventarios") -> Software para el control de inventarios | D24: =IF('10'!G26=1,"APLICA","NO APLICA") -> NO APLICA
B25: ='10'!B27 -> PR7 | C25: =REPLACE('10'!C30,1,250,"Control de productos terminados") -> Control de productos terminados | D25: =IF('10'!G27=1,"APLICA","NO APLICA") -> NO APLICA | E25: Media | F25: Moderado | G25: =INDEX($C$13:$C$15,MATCH(E25,$B$13:$B$15,0))*INDEX($D$12:$F$12,MATCH(F25,$D$11:$F$11,0)) -> 4
B26: ='10'!B28 -> PR8 | C26: =REPLACE('10'!C35,1,250,"Estrategia para puntos de pedido y reorden") -> Estrategia para puntos de pedido y reorden | D26: =IF('10'!G28=1,"APLICA","NO APLICA") -> NO APLICA
B27: ='10'!B29 -> PR9 | C27: =REPLACE('10'!C29,1,250,"Tratamiento inventarios obsoletos") -> Tratamiento inventarios obsoletos | D27: =IF('10'!G29=1,"APLICA","NO APLICA") -> APLICA
B28: ='10'!B30 -> PR10 | C28: =REPLACE('10'!C28,1,250,"Planes de mantenimiento a la maquinaria") -> Planes de mantenimiento a la maquinaria | D28: =IF('10'!G30=1,"APLICA","NO APLICA") -> APLICA
B29: ='10'!B31 -> PR11 | C29: =REPLACE('10'!C21,1,250,"Monitoreo a la maniquinaria") -> Monitoreo a la maniquinaria | D29: =IF('10'!G31=1,"APLICA","NO APLICA") -> NO APLICA
B30: ='10'!B32 -> PR12 | C30: =REPLACE('10'!C22,1,250,"Manual de procedimientos de la organización") -> Manual de procedimientos de la organización | D30: =IF('10'!G32=1,"APLICA","NO APLICA") -> APLICA
B31: ='10'!B33 -> PR13 | C31: =REPLACE('10'!C34,1,250,"Evaluaciones sobre los distintos riesgos") -> Evaluaciones sobre los distintos riesgos | D31: =IF('10'!G33=1,"APLICA","NO APLICA") -> APLICA
B32: ='10'!B34 -> PR14 | C32: =REPLACE('10'!C23,1,250,"Controles de riesgos aplicados") -> Controles de riesgos aplicados | D32: =IF('10'!G34=1,"APLICA","NO APLICA") -> APLICA
B33: ='10'!B35 -> PR15 | C33: =REPLACE('10'!C27,1,250,"Manuales y políticas para la concesión de créditos") -> Manuales y políticas para la concesión de créditos | D33: =IF('10'!G35=1,"APLICA","NO APLICA") -> APLICA

Sheet 14
B8: MAPA DE RIESGOS
B9: N° | C9: Riesgo | D9: Tipo | E9: Descripción | F9: Responsable | G9: Aplica | H9: Causa | I9: Efecto | J9: Frecuencia | K9: Evaluación al riesgo | L9: Respuesta sugerida | M9: Respuesta al riesgo
B10: ='10'!#REF! -> #REF! | C10: ='13'!C19 -> Control constante de la cuenta caja | D10: Inherente | E10: ='10'!C32 -> ¿La entidad cuenta con un manual de procesos donde se describen los principales procedimientos de organización? | F10: Gerencia | G10: ='13'!D19 -> NO APLICA | J10: ='13'!G19 -> 2 | K10: =IF(AND(J10>=2,J10>=3,J10>=6),IF(J10>=6,"Riesgo Severo",""),IF(J10>2,"Riesgo Tolerable","Riesgo Aceptable")) -> Riesgo Aceptable | L10: =IF(AND(J10>=2,J10>=3,J10>=6),IF(J10>=6,"Evitar",""),IF(J10>2,"Reducir y Transferir","Aceptar activamente o Pasivamente")) -> Aceptar activamente o Pasivamente | M10: =IF(AND(J10>=2,J10>=3,J10>=6),IF(J10>=6,"La empresa necesita de manera urgente implementar un sistema de gestón de riesgos inmediatamente","La empresa si realiza evaluaciones de la rotación de inventraios lo cual favorece a determinar en que tiempo se consume le inventario"),IF(J10>2,"Se sugiere a la empresa diseñar un control de evaluacion de riesgos y esta sea monitoriada bajo cierto tiempo ","La empresa realiza una correcta gestión del riesgo")) -> La empresa realiza una correcta gestión del riesgo
B11: ='10'!#REF! -> #REF! | C11: ='13'!C20 -> Saldos mínimos de liquidez | D11: Inherente | E11: ='10'!C24 -> ¿La entidad realiza evaluaciones periódicas de las rotaciones de inventarios? | F11: Gerencia | G11: ='13'!D20 -> APLICA | H11: Parte escencial dentro del crecimiento de la organización | I11: Representa una gran limitación a la hora de innovar o proponerse metas como obtener un buen resultado final. | J11: ='13'!G20 -> 2 | K11: =IF(AND(J11>=2,J11>=3,J11>=6),IF(J11>=6,"Riesgo Severo",""),IF(J11>2,"Riesgo Tolerable","Riesgo Aceptable")) -> Riesgo Aceptable | L11: =IF(AND(J11>=2,J11>=3,J11>=6),IF(J11>=6,"Evitar",""),IF(J11>2,"Reducir y Transferir","Aceptar activamente o Pasivamente")) -> Aceptar activamente o Pasivamente | M11: =IF(AND(J11>=2,J11>=3,J11>=6),IF(J11>=6,"La empresa necesita de manera urgente implementar un sistema de gestón de riesgos inmediatamente","La empresa si realiza evaluaciones de la rotación de inventraios lo cual favorece a determinar en que tiempo se consume le inventario"),IF(J11>2,"Se sugiere a la empresa diseñar un control de evaluacion de riesgos y esta sea monitoriada bajo cierto tiempo ","La empresa realiza una correcta gestión del riesgo")) -> La empresa realiza una correcta gestión del riesgo
B12: ='10'!#REF! -> #REF! | C12: ='13'!C21 -> Recuperación de cuentas por cobrar | D12: Inherente | E12: ='10'!C25 -> ¿Se tiene documentos o registros para el control de entradas y salidas inventario? | F12: Gerencia | G12: ='13'!D21 -> NO APLICA | J12: ='13'!G21 -> 6 | K12: =IF(AND(J12>=2,J12>=3,J12>=6),IF(J12>=6,"Riesgo Severo",""),IF(J12>2,"Riesgo Tolerable","Riesgo Aceptable")) -> Riesgo Severo | L12: =IF(AND(J12>=2,J12>=3,J12>=6),IF(J12>=6,"Evitar",""),IF(J12>2,"Reducir y Transferir","Aceptar activamente o Pasivamente")) -> Evitar | M12: =IF(AND(J12>=2,J12>=3,J12>=6),IF(J12>=6,"La empresa necesita de manera urgente implementar un sistema de gestón de riesgos inmediatamente","La empresa si realiza evaluaciones de la rotación de inventraios lo cual favorece a determinar en que tiempo se consume le inventario"),IF(J12>2,"Se sugiere a la empresa diseñar un control de evaluacion de riesgos y esta sea monitoriada bajo cierto tiempo ","La empresa realiza una correcta gestión del riesgo")) -> La empresa necesita de manera urgente implementar un sistema de gestón de riesgos inmediatamente
B13: ='10'!#REF! -> #REF! | C13: ='13'!C22 -> Rotaciones de inventarios | D13: Inherente | E13: ='10'!C33 -> ¿Se realiza evaluaciones sobre los distintos riesgos como: errores humanos, procesos de seguridad y riesgos mecanicos los cuales pueden afectar de manera significativa la operatividad de la empresa? | F13: Gerencia | G13: ='13'!D22 -> NO APLICA | J13: ='13'!G22 -> 0 | K13: =IF(AND(J13>=2,J13>=3,J13>=6),IF(J13>=6,"Riesgo Severo",""),IF(J13>2,"Riesgo Tolerable","Riesgo Aceptable")) -> Riesgo Aceptable | L13: =IF(AND(J13>=2,J13>=3,J13>=6),IF(J13>=6,"Evitar",""),IF(J13>2,"Reducir y Transferir","Aceptar activamente o Pasivamente")) -> Aceptar activamente o Pasivamente | M13: =IF(AND(J13>=2,J13>=3,J13>=6),IF(J13>=6,"La empresa necesita de manera urgente implementar un sistema de gestón de riesgos inmediatamente","La empresa si realiza evaluaciones de la rotación de inventraios lo cual favorece a determinar en que tiempo se consume le inventario"),IF(J13>2,"Se sugiere a la empresa diseñar un control de evaluacion de riesgos y esta sea monitoriada bajo cierto tiempo ","La empresa realiza una correcta gestión del riesgo")) -> La empresa realiza una correcta gestión del riesgo
B14: ='10'!#REF! -> #REF! | C14: ='13'!C23 -> Control de entradas y salidas inventario | D14: Inherente | E14: ='10'!C31 -> ¿La entidad realiza un correcto monitoreo a la maniquinaria para verificar su nivel óptimo de producción? | F14: Gerencia | G14: ='13'!D23 -> NO APLICA | J14: ='13'!G23 -> 0 | K14: =IF(AND(J14>=2,J14>=3,J14>=6),IF(J14>=6,"Riesgo Severo",""),IF(J14>2,"Riesgo Tolerable","Riesgo Aceptable")) -> Riesgo Aceptable | L14: =IF(AND(J14>=2,J14>=3,J14>=6),IF(J14>=6,"Evitar",""),IF(J14>2,"Reducir y Transferir","Aceptar activamente o Pasivamente")) -> Aceptar activamente o Pasivamente | M14: =IF(AND(J14>=2,J14>=3,J14>=6),IF(J14>=6,"La empresa necesita de manera urgente implementar un sistema de gestón de riesgos inmediatamente","La empresa si realiza evaluaciones de la rotación de inventraios lo cual favorece a determinar en que tiempo se consume le inventario"),IF(J14>2,"Se sugiere a la empresa diseñar un control de evaluacion de riesgos y esta sea monitoriada bajo cierto tiempo ","La empresa realiza una correcta gestión del riesgo")) -> La empresa realiza una correcta gestión del riesgo
B15: ='10'!#REF! -> #REF! | C15: ='13'!C24 -> Software para el control de inventarios | D15: Inherente | E15: ='10'!C26 -> ¿Se dispone un software para el control de inventarios? | F15: Gerencia | G15: ='13'!D24 -> NO APLICA | J15: ='13'!G24 -> 0 | K15: =IF(AND(J15>=2,J15>=3,J15>=6),IF(J15>=6,"Riesgo Severo",""),IF(J15>2,"Riesgo Tolerable","Riesgo Aceptable")) -> Riesgo Aceptable | L15: =IF(AND(J15>=2,J15>=3,J15>=6),IF(J15>=6,"Evitar",""),IF(J15>2,"Reducir y Transferir","Aceptar activamente o Pasivamente")) -> Aceptar activamente o Pasivamente | M15: =IF(AND(J15>=2,J15>=3,J15>=6),IF(J15>=6,"La empresa necesita de manera urgente implementar un sistema de gestón de riesgos inmediatamente",""),IF(J15>2,"Se sugiere a la empresa diseñar un control de evaluacion de riesgos y esta sea monitoriada bajo cierto tiempo ","La empresa cuenta con un sistema que control de gestión de riesgo efectivo")) -> La empresa cuenta con un sistema que control de gestión de riesgo efectivo
B16: ='10'!#REF! -> #REF! | C16: ='13'!C25 -> Control de productos terminados | D16: Inherente | E16: ='10'!C30 -> ¿La entidad realiza planes de mantenimiento a la maquinaria? | F16: Gerencia | G16: ='13'!D25 -> NO APLICA | J16: ='13'!G25 -> 4 | K16: =IF(AND(J16>=2,J16>=3,J16>=6),IF(J16>=6,"Riesgo Severo",""),IF(J16>2,"Riesgo Tolerable","Riesgo Aceptable")) -> Riesgo Tolerable | L16: =IF(AND(J16>=2,J16>=3,J16>=6),IF(J16>=6,"Evitar",""),IF(J16>2,"Reducir y Transferir","Aceptar activamente o Pasivamente")) -> Reducir y Transferir | M16: =IF(AND(J16>=2,J16>=3,J16>=6),IF(J16>=6,"La empresa necesita de manera urgente implementar un sistema de gestón de riesgos inmediatamente",""),IF(J16>2,"Se sugiere a la empresa diseñar un control de evaluacion de riesgos y esta sea monitoriada bajo cierto tiempo ","La empresa cuenta con un sistema que control de gestión de riesgo efectivo")) -> Se sugiere a la empresa diseñar un control de evaluacion de riesgos y esta sea monitoriada bajo cierto tiempo
B17: ='10'!#REF! -> #REF! | C17: ='13'!C26 -> Estrategia para puntos de pedido y reorden | D17: Inherente | E17: ='10'!C35 -> ¿Se tiene definido manuales y políticas para la concesión de créditos? | F17: Gerencia | G17: ='13'!D26 -> NO APLICA | J17: ='13'!G26 -> 0 | K17: =IF(AND(J17>=2,J17>=3,J17>=6),IF(J17>=6,"Riesgo Severo",""),IF(J17>2,"Riesgo Tolerable","Riesgo Aceptable")) -> Riesgo Aceptable | L17: =IF(AND(J17>=2,J17>=3,J17>=6),IF(J17>=6,"Evitar",""),IF(J17>2,"Reducir y Transferir","Aceptar activamente o Pasivamente")) -> Aceptar activamente o Pasivamente | M17: =IF(AND(J17>=2,J17>=3,J17>=6),IF(J17>=6,"La empresa necesita de manera urgente implementar un sistema de gestón de riesgos inmediatamente",""),IF(J17>2,"Se sugiere a la empresa diseñar un control de evaluacion de riesgos y esta sea monitoriada bajo cierto tiempo ","La empresa cuenta con un sistema que control de gestión de riesgo efectivo")) -> La empresa cuenta con un sistema que control de gestión de riesgo efectivo
B18: ='10'!#REF! -> #REF! | C18: ='13'!C27 -> Tratamiento inventarios obsoletos | D18: Inherente | E18: ='10'!C29 -> ¿Existe un tratamiento contable para los inventarios obsoletos? | F18: Gerencia | G18: ='13'!D27 -> APLICA | J18: ='13'!G27 -> 0 | K18: =IF(AND(J18>=2,J18>=3,J18>=6),IF(J18>=6,"Riesgo Severo",""),IF(J18>2,"Riesgo Tolerable","Riesgo Aceptable")) -> Riesgo Aceptable | L18: =IF(AND(J18>=2,J18>=3,J18>=6),IF(J18>=6,"Evitar",""),IF(J18>2,"Reducir y Transferir","Aceptar activamente o Pasivamente")) -> Aceptar activamente o Pasivamente | M18: =IF(AND(J18>=2,J18>=3,J18>=6),IF(J18>=6,"La empresa necesita de manera urgente implementar un sistema de gestón de riesgos inmediatamente",""),IF(J18>2,"Se sugiere a la empresa diseñar un control de evaluacion de riesgos y esta sea monitoriada bajo cierto tiempo ","La empresa cuenta con un sistema que control de gestión de riesgo efectivo")) -> La empresa cuenta con un sistema que control de gestión de riesgo efectivo
B19: ='10'!#REF! -> #REF! | C19: ='13'!C28 -> Planes de mantenimiento a la maquinaria | D19: Inherente | E19: ='10'!C28 -> ¿La entidad tiene definido una estrategia para puntos de pedido y reorden? | F19: Gerencia | G19: ='13'!D28 -> APLICA | J19: ='13'!G28 -> 0 | K19: =IF(AND(J19>=2,J19>=3,J19>=6),IF(J19>=6,"Riesgo Severo",""),IF(J19>2,"Riesgo Tolerable","Riesgo Aceptable")) -> Riesgo Aceptable | L19: =IF(AND(J19>=2,J19>=3,J19>=6),IF(J19>=6,"Evitar",""),IF(J19>2,"Reducir y Transferir","Aceptar activamente o Pasivamente")) -> Aceptar activamente o Pasivamente | M19: =IF(AND(J19>=2,J19>=3,J19>=6),IF(J19>=6,"La empresa necesita de manera urgente implementar un sistema de gestón de riesgos inmediatamente",""),IF(J19>2,"Se sugiere a la empresa diseñar un control de evaluacion de riesgos y esta sea monitoriada bajo cierto tiempo ","La empresa cuenta con un sistema que control de gestión de riesgo efectivo")) -> La empresa cuenta con un sistema que control de gestión de riesgo efectivo
B20: ='10'!#REF! -> #REF! | C20: ='13'!C29 -> Monitoreo a la maniquinaria | D20: Inherente | E20: ='10'!C21 -> ¿En la entidad se lleva un control constante de la cuenta caja? | F20: Gerencia | G20: ='13'!D29 -> NO APLICA | J20: ='13'!G29 -> 0 | K20: =IF(AND(J20>=2,J20>=3,J20>=6),IF(J20>=6,"Riesgo Severo",""),IF(J20>2,"Riesgo Tolerable","Riesgo Aceptable")) -> Riesgo Aceptable | L20: =IF(AND(J20>=2,J20>=3,J20>=6),IF(J20>=6,"Evitar",""),IF(J20>2,"Reducir y Transferir","Aceptar activamente o Pasivamente")) -> Aceptar activamente o Pasivamente | M20: =IF(AND(J20>=2,J20>=3,J20>=6),IF(J20>=6,"La empresa necesita de manera urgente implementar un sistema de gestón de riesgos inmediatamente",""),IF(J20>2,"Se sugiere a la empresa diseñar un control de evaluacion de riesgos y esta sea monitoriada bajo cierto tiempo ","La empresa cuenta con un sistema que control de gestión de riesgo efectivo")) -> La empresa cuenta con un sistema que control de gestión de riesgo efectivo
B21: ='10'!#REF! -> #REF! | C21: ='13'!C30 -> Manual de procedimientos de la organización | D21: Inherente | E21: ='10'!C22 -> ¿La entidad tienen definidos los saldos mínimos de liquidez? | F21: Gerencia | G21: ='13'!D30 -> APLICA | J21: ='13'!G30 -> 0 | K21: =IF(AND(J21>=2,J21>=3,J21>=6),IF(J21>=6,"Riesgo Severo",""),IF(J21>2,"Riesgo Tolerable","Riesgo Aceptable")) -> Riesgo Aceptable | L21: =IF(AND(J21>=2,J21>=3,J21>=6),IF(J21>=6,"Evitar",""),IF(J21>2,"Reducir y Transferir","Aceptar activamente o Pasivamente")) -> Aceptar activamente o Pasivamente | M21: =IF(AND(J21>=2,J21>=3,J21>=6),IF(J21>=6,"La empresa necesita de manera urgente implementar un sistema de gestón de riesgos inmediatamente",""),IF(J21>2,"Se sugiere a la empresa diseñar un control de evaluacion de riesgos y esta sea monitoriada bajo cierto tiempo ","La empresa cuenta con un sistema que control de gestión de riesgo efectivo")) -> La empresa cuenta con un sistema que control de gestión de riesgo efectivo
B22: ='10'!#REF! -> #REF! | C22: ='13'!C31 -> Evaluaciones sobre los distintos riesgos | D22: Inherente | E22: ='10'!C34 -> ¿Los controles de riesgos son aplicados tomando en consideración la operatividad de la entidad? | F22: Gerencia | G22: ='13'!D31 -> APLICA | J22: ='13'!G31 -> 0 | K22: =IF(AND(J22>=2,J22>=3,J22>=6),IF(J22>=6,"Riesgo Severo",""),IF(J22>2,"Riesgo Tolerable","Riesgo Aceptable")) -> Riesgo Aceptable | L22: =IF(AND(J22>=2,J22>=3,J22>=6),IF(J22>=6,"Evitar",""),IF(J22>2,"Reducir y Transferir","Aceptar activamente o Pasivamente")) -> Aceptar activamente o Pasivamente | M22: =IF(AND(J22>=2,J22>=3,J22>=6),IF(J22>=6,"La empresa necesita de manera urgente implementar un sistema de gestón de riesgos inmediatamente",""),IF(J22>2,"Se sugiere a la empresa diseñar un control de evaluacion de riesgos y esta sea monitoriada bajo cierto tiempo ","La empresa cuenta con un sistema que control de gestión de riesgo efectivo")) -> La empresa cuenta con un sistema que control de gestión de riesgo efectivo
B23: ='10'!#REF! -> #REF! | C23: ='13'!C32 -> Controles de riesgos aplicados | D23: Inherente | E23: ='10'!C23 -> ¿Se tiene mecanismos y políticas para la recuperación de cuentas por cobrar? | F23: Gerencia | G23: ='13'!D32 -> APLICA | J23: ='13'!G32 -> 0 | K23: =IF(AND(J23>=2,J23>=3,J23>=6),IF(J23>=6,"Riesgo Severo",""),IF(J23>2,"Riesgo Tolerable","Riesgo Aceptable")) -> Riesgo Aceptable | L23: =IF(AND(J23>=2,J23>=3,J23>=6),IF(J23>=6,"Evitar",""),IF(J23>2,"Reducir y Transferir","Aceptar activamente o Pasivamente")) -> Aceptar activamente o Pasivamente | M23: =IF(AND(J23>=2,J23>=3,J23>=6),IF(J23>=6,"La empresa necesita de manera urgente implementar un sistema de gestón de riesgos inmediatamente",""),IF(J23>2,"Se sugiere a la empresa diseñar un control de evaluacion de riesgos y esta sea monitoriada bajo cierto tiempo ","La empresa cuenta con un sistema que control de gestión de riesgo efectivo")) -> La empresa cuenta con un sistema que control de gestión de riesgo efectivo
B24: ='10'!#REF! -> #REF! | C24: ='13'!C33 -> Manuales y políticas para la concesión de créditos | D24: Inherente | E24: ='10'!C27 -> ¿Se tiene un control determinado sobre los productos terminados? | F24: Gerencia | G24: ='13'!D33 -> APLICA | J24: ='13'!G33 -> 0 | K24: =IF(AND(J24>=2,J24>=3,J24>=6),IF(J24>=6,"Riesgo Severo",""),IF(J24>2,"Riesgo Tolerable","Riesgo Aceptable")) -> Riesgo Aceptable | L24: =IF(AND(J24>=2,J24>=3,J24>=6),IF(J24>=6,"Evitar",""),IF(J24>2,"Reducir y Transferir","Aceptar activamente o Pasivamente")) -> Aceptar activamente o Pasivamente | M24: =IF(AND(J24>=2,J24>=3,J24>=6),IF(J24>=6,"La empresa necesita de manera urgente implementar un sistema de gestón de riesgos inmediatamente",""),IF(J24>2,"Se sugiere a la empresa diseñar un control de evaluacion de riesgos y esta sea monitoriada bajo cierto tiempo ","La empresa cuenta con un sistema que control de gestión de riesgo efectivo")) -> La empresa cuenta con un sistema que control de gestión de riesgo efectivo

Sheet TABLAS - GRÁFICAS
B2: Estrategia de Liquidez | D2: Ingrese su meta
B3: RELAJADA | C3: =D3 -> 0.2 | D3: 0.2 | H3: RELAJADA | I3: 0.2 | J3: 0.2 | Y3: RELAJADA | Z3: 0.25 | AA3: 0.2 | AE3: RELAJADA | AF3: 0.15 | AI3: RELAJADA | AJ3: 0.25 | AM3: RELAJADA | AN3: 0.08 | AQ3: RELAJADA | AR3: 0.2
B4: RESTRINGIDA | C4: =D4 -> -0.2 | D4: -0.2 | H4: RESTRINGIDA | I4: -0.1 | J4: -0.1 | Y4: RESTRINGIDA | Z4: -0.25 | AA4: -0.1 | AE4: RESTRINGIDA | AF4: 0.1 | AI4: RESTRINGIDA | AJ4: -0.25 | AM4: RESTRINGIDA | AN4: 0.05 | AQ4: RESTRINGIDA | AR4: 0.1
B5: MODERADA | C5: =D5 -> 0.05 | D5: 0.05 | H5: MODERADA | I5: 0.05 | J5: 0.05 | Y5: MODERADA | Z5: -0.1 | AA5: 0.05 | AE5: MODERADA | AF5: 0.05 | AI5: MODERADA | AJ5: -0.1
B9: ROE | H9: ACTIVOS TOTALES/ACTIVOS CORRIENTES | O9: ROA | R9: Rotacion de activos | Y9: ROA | AE9: LIQUIDEZ CORRIENTE | AI9: ENDEUDAMIENTO | AM9: GANANCIAS RETENIDAS | AQ9: GASTOS POR INTERES
U10: ROA
B11: LC | C11: NC | H11: PA | I11: NC | U11: 0 | V11: Deficiente | Y11: PMC | Z11: NC | AE11: LQ | AF11: NC | AI11: E | AJ11: NC | AM11: GR | AN11: NC | AQ11: GI | AR11: NC
B12: X | C12: Y | H12: X | I12: Y | U12: 1 | V12: Deficiente | Y12: X | Z12: Y | AE12: X | AF12: Y | AI12: X | AJ12: Y | AM12: X | AN12: Y | AQ12: X | AR12: Y
B13: 0 | C13: 0 | D13: Deficiente | E13: 0 | F13: Se detectó ROE bajo se recomienda: Subir el precio del producto, negociar con proveedores, reducir sus costos laborales. | G13: . | H13: 0 | I13: 0 | J13: Deficiente | K13: 0 | L13: Se detectó un activo muy bajo se recomienda mejorar el control de ellos | O13: 0 | P13: Se detectó un ROA bajo se recomienda: Reducir la deuda | R13: 0 | S13: Se detectó una rotación de activos baja lo que podría indicar que la compañía tiene mucho capital inutilizado en sus activos | T13: . | U13: 2 | V13: Deficiente | Y13: 0 | Z13: 1 | AA13: Óptimo | AB13: 0 | AC13: La política de cobro de la empresa es eficiente pues hace efectivo la cuenta por cobrar rápidamente. | AD13: . | AE13: 0 | AF13: 0 | AG13: La empresa no cuenta con liquidez suficiente para realizar sus actividades y por ende no pagar sus deudas. | AH13: . | AI13: 0 | AJ13: 0 | AK13: La empresa muestra un buen resultado ya que las deudas representan la menor parte de los activos, y podra mantenerse y cumplir con sus obligaciones. | AL13: . | AM13: 0 | AN13: 0 | AO13: La empresa posee una deficiente capacidad de ganancias retenidas sobre los ingresos. | AP13: . | AQ13: 0 | AR13: 0 | AS13: Existe una deficiente administración de los recursos, por lo que a partir de sus gastos efectuados el negocio no puede cubrir sus costos de producción y contar con un margen de utilidad. | AT13: . | AU13: .
B14: 0.01 | C14: =1/130 -> 0.0076923077 | D14: Deficiente | E14: 0.01 | F14: Se detectó ROE bajo se recomienda: Subir el precio del producto, negociar con proveedores, reducir sus costos laborales. | G14: . | H14: 0.01 | I14: =1/110 -> 0.0090909091 | J14: Deficiente | K14: 0.01 | L14: Se detectó un activo muy bajo se recomienda mejorar el control de ellos | O14: 0.01 | P14: Se detectó un ROA bajo se recomienda: Reducir la deuda | R14: 0.01 | S14: Se detectó una rotación de activos baja lo que podría indicar que la compañía tiene mucho capital inutilizado en sus activos | T14: . | U14: 3 | V14: Deficiente | Y14: 1 | Z14: 1 | AA14: Óptimo | AB14: 1 | AC14: La política de cobro de la empresa es eficiente pues hace efectivo la cuenta por cobrar rápidamente. | AD14: . | AE14: 1 | AF14: =1/60 -> 0.016666667 | AG14: La empresa no cuenta con liquidez suficiente para realizar sus actividades y por ende no pagar sus deudas. | AH14: . | AI14: 1 | AJ14: 0.01 | AK14: La empresa muestra un buen resultado ya que las deudas representan la menor parte de los activos, y podra mantenerse y cumplir con sus obligaciones. | AL14: . | AM14: 0.1 | AN14: 0.01 | AO14: La empresa posee una deficiente capacidad de ganancias retenidas sobre los ingresos. | AP14: . | AQ14: 0.1 | AR14: 0.01 | AS14: Existe una deficiente administración de los recursos, por lo que a partir de sus gastos efectuados el negocio no puede cubrir sus costos de producción y contar con un margen de utilidad. | AT14: . | AU14: .
B15: 0.02 | C15: =(1/130)+C14 -> 0.015384615 | D15: Deficiente | E15: 0.02 | F15: Se detectó ROE bajo se recomienda: Subir el precio del producto, negociar con proveedores, reducir sus costos laborales. | G15: . | H15: 0.02 | I15: =(1/110)+I14 -> 0.018181818 | J15: Deficiente | K15: 0.02 | L15: Se detectó un activo muy bajo se recomienda mejorar el control de ellos | O15: 0.02 | P15: Se detectó un ROA bajo se recomienda: Reducir la deuda | R15: 0.02 | S15: Se detectó una rotación de activos baja lo que podría indicar que la compañía tiene mucho capital inutilizado en sus activos | T15: . | U15: 4 | V15: Poco satisfactorio | Y15: 2 | Z15: 1 | AA15: Óptimo | AB15: 2 | AC15: La política de cobro de la empresa es eficiente pues hace efectivo la cuenta por cobrar rápidamente. | AD15: . | AE15: 2 | AF15: =AF14+(1/60) -> 0.033333333 | AG15: La empresa no cuenta con liquidez suficiente para realizar sus actividades y por ende no pagar sus deudas. | AH15: . | AI15: 2 | AJ15: 0.02 | AK15: La empresa muestra un buen resultado ya que las deudas representan la menor parte de los activos, y podra mantenerse y cumplir con sus obligaciones. | AL15: . | AM15: 0.2 | AN15: 0.02 | AO15: La empresa posee una deficiente capacidad de ganancias retenidas sobre los ingresos. | AP15: . | AQ15: 0.2 | AR15: 0.02 | AS15: Existe una optima administración de los recursos, por lo que a partir de sus gastos efectuados el negocio puede cubrir sus costos y gastos y contar con un margen de utilidad. | AT15: . | AU15: .
